BEGIN:VCALENDAR
VERSION:2.0
PRODID:-//HAZ Weihnachtshilfe - ECPv5.3.0//NONSGML v1.0//EN
CALSCALE:GREGORIAN
METHOD:PUBLISH
X-WR-CALNAME:HAZ Weihnachtshilfe
X-ORIGINAL-URL:https://www.weihnachtshilfe.de
X-WR-CALDESC:Veranstaltungen f&uuml;r HAZ Weihnachtshilfe
BEGIN:VTIMEZONE
TZID:Europe/Helsinki
BEGIN:DAYLIGHT
TZOFFSETFROM:+0200
TZOFFSETTO:+0300
TZNAME:EEST
DTSTART:20190331T010000
END:DAYLIGHT
BEGIN:STANDARD
TZOFFSETFROM:+0300
TZOFFSETTO:+0200
TZNAME:EET
DTSTART:20191027T010000
END:STANDARD
END:VTIMEZONE
BEGIN:VEVENT
DTSTART;TZID=Europe/Helsinki:20191207T150000
DTEND;TZID=Europe/Helsinki:20191207T180000
DTSTAMP:20260423T041445
CREATED:20191002T131647Z
LAST-MODIFIED:20191002T132705Z
UID:3043-1575730800-1575741600@www.weihnachtshilfe.de
SUMMARY:Musikschule l&auml;dt zum Adventskonzert ein
DESCRIPTION:Beim Adventskonzert der Musikschule in der Lister Matth&auml;uskirche waren die Sitzpl&auml;tze im vergangenen Jahr schnell belegt. Foto: Franson \nAm 7. Dezember folgt das j&auml;hrliche Adventskonzert der Musikschule unter der Leitung von Boyan Karanjuloff und Simon Knox. Ab 15 Uhr treten Mitglieder in der Lister Matth&auml;uskirche an der W&ouml;hlerstra&szlig;e 13 auf und sorgen f&uuml;r festliche und weihnachtliche Musik. Der Eintritt ist frei\, um Spenden f&uuml;r die HAZ-Weihnachtshilfe wird gebeten. Im vergangenen Jahr war die Veranstaltung sehr gut besucht &ndash; fr&uuml;hzeitiges Erscheinen wird empfohlen.
URL:https://www.weihnachtshilfe.de/event/3043/
CATEGORIES:Termine
ATTACH;FMTTYPE=image/jpeg:https://www.weihnachtshilfe.de/wp-content/uploads/2019/01/musikschule-1.jpg
END:VEVENT
END:VCALENDAR