BEGIN:VCALENDAR
VERSION:2.0
PRODID:-//HAZ Weihnachtshilfe - ECPv5.3.0//NONSGML v1.0//EN
CALSCALE:GREGORIAN
METHOD:PUBLISH
X-WR-CALNAME:HAZ Weihnachtshilfe
X-ORIGINAL-URL:https://www.weihnachtshilfe.de
X-WR-CALDESC:Veranstaltungen f&uuml;r HAZ Weihnachtshilfe
BEGIN:VTIMEZONE
TZID:Europe/Helsinki
BEGIN:DAYLIGHT
TZOFFSETFROM:+0200
TZOFFSETTO:+0300
TZNAME:EEST
DTSTART:20150329T010000
END:DAYLIGHT
BEGIN:STANDARD
TZOFFSETFROM:+0300
TZOFFSETTO:+0200
TZNAME:EET
DTSTART:20151025T010000
END:STANDARD
END:VTIMEZONE
BEGIN:VEVENT
DTSTART;TZID=Europe/Helsinki:20151129T150000
DTEND;TZID=Europe/Helsinki:20151129T180000
DTSTAMP:20260420T231258
CREATED:20151113T154502Z
LAST-MODIFIED:20151113T154502Z
UID:1376-1448809200-1448820000@www.weihnachtshilfe.de
SUMMARY:Auch Charly Neumann hilft
DESCRIPTION:Charly Neumann hat &uuml;ber Jahrzehnte die Musikkultur Hannovers gepr&auml;gt. Auch der Teufelsgeiger unterst&uuml;tzt die Weihnachtshilfe. Er spielt am 29. November ein Konzert im Caf&eacute; Korthaus in der Garkenburgerstra&szlig;e 46. Zwischen 15.30 und 17.30 Uhr spielt er Violine und Klarinette. Geboten werden Adventslieder\, St&uuml;cke von Bach\, Beethoven und Jazzkompositionen. Der Eintritt ist frei. Neumann spendet f&uuml;r die Weihnachtshilfe rare Schallplatten und CDs\, die gegen eine Spende verkauft werden.
URL:https://www.weihnachtshilfe.de/event/auch-charly-neumann-hilft/
CATEGORIES:Termine
ATTACH;FMTTYPE=image/jpeg:https://www.weihnachtshilfe.de/wp-content/uploads/2015/11/charly.jpeg
END:VEVENT
END:VCALENDAR