BEGIN:VCALENDAR
VERSION:2.0
PRODID:-//HAZ Weihnachtshilfe - ECPv5.3.0//NONSGML v1.0//EN
CALSCALE:GREGORIAN
METHOD:PUBLISH
X-WR-CALNAME:HAZ Weihnachtshilfe
X-ORIGINAL-URL:https://www.weihnachtshilfe.de
X-WR-CALDESC:Veranstaltungen f&uuml;r HAZ Weihnachtshilfe
BEGIN:VTIMEZONE
TZID:Europe/Helsinki
BEGIN:DAYLIGHT
TZOFFSETFROM:+0200
TZOFFSETTO:+0300
TZNAME:EEST
DTSTART:20170326T010000
END:DAYLIGHT
BEGIN:STANDARD
TZOFFSETFROM:+0300
TZOFFSETTO:+0200
TZNAME:EET
DTSTART:20171029T010000
END:STANDARD
END:VTIMEZONE
BEGIN:VEVENT
DTSTART;TZID=Europe/Helsinki:20171124T110000
DTEND;TZID=Europe/Helsinki:20171124T160000
DTSTAMP:20260421T102223
CREATED:20171123T174704Z
LAST-MODIFIED:20171127T174902Z
UID:2281-1511521200-1511539200@www.weihnachtshilfe.de
SUMMARY:Basar f&uuml;r die Weihnachtshilfe
DESCRIPTION:Am Freitag\, 24. November\, geht im Historischen Museum von 11 bis 16 Uhr ein gro&szlig;er&nbsp;Basar&nbsp;&uuml;ber die B&uuml;hne. Das Museum verkauft unter anderem Reproduktionen von Gem&auml;lden aus der Dauerausstellung. An einem Stand der HAZ-Weihnachtshilfe k&ouml;nnen Besucher&nbsp;die neue Benefiz-CD &bdquo;Weihnachtliche Musik aus der Unesco City of Music&ldquo; erwerben oder in den Kunstwerken der K&uuml;nstlerwerkstatt two lives st&ouml;bern\, die zugunsten von Menschen in Not verkauft werden.
URL:https://www.weihnachtshilfe.de/event/basar-fuer-die-weihnachtshilfe/
CATEGORIES:Termine
ATTACH;FMTTYPE=image/jpeg:https://www.weihnachtshilfe.de/wp-content/uploads/2017/11/basar.jpg
END:VEVENT
END:VCALENDAR