BEGIN:VCALENDAR
VERSION:2.0
PRODID:-//HAZ Weihnachtshilfe - ECPv5.3.0//NONSGML v1.0//EN
CALSCALE:GREGORIAN
METHOD:PUBLISH
X-WR-CALNAME:HAZ Weihnachtshilfe
X-ORIGINAL-URL:https://www.weihnachtshilfe.de
X-WR-CALDESC:Veranstaltungen f&uuml;r HAZ Weihnachtshilfe
BEGIN:VTIMEZONE
TZID:Europe/Helsinki
BEGIN:DAYLIGHT
TZOFFSETFROM:+0200
TZOFFSETTO:+0300
TZNAME:EEST
DTSTART:20160327T010000
END:DAYLIGHT
BEGIN:STANDARD
TZOFFSETFROM:+0300
TZOFFSETTO:+0200
TZNAME:EET
DTSTART:20161030T010000
END:STANDARD
END:VTIMEZONE
BEGIN:VEVENT
DTSTART;TZID=Europe/Helsinki:20161122T180000
DTEND;TZID=Europe/Helsinki:20161122T200000
DTSTAMP:20260425T191511
CREATED:20161121T122329Z
LAST-MODIFIED:20161121T122329Z
UID:1857-1479837600-1479844800@www.weihnachtshilfe.de
SUMMARY:Gl&uuml;ck f&uuml;r gro&szlig;z&uuml;gige Spender
DESCRIPTION:Scherenschnitte f&uuml;r den guten Zweck. \nBis Donnerstag laufen in Hannover noch die chinesischen Kulturtage. Im Haus der Region gibt es dazu Tai Chi und Teezeremonien. Auch im City Center Langenhagen wird die chinesische Kultur zelebriert. Auf Einladung der HAZ pr&auml;sentieren dort heute renommierte K&uuml;nstler aus der chinesischen Pr&auml;fektur Luan von 18 bis 20 Uhr in der Gesch&auml;ftsstelle die Kunst der Teezeremonie\, des Scherenschnitts\, der Kalligrafie und Guzheng-Musik. M&ouml;glich wird diese au&szlig;ergew&ouml;hnliche Performance dank der Partnerschaft zwischen Luan und der Region Hannover. Der exklusive Auftritt der K&uuml;nstlergruppe in der HAZ-Gesch&auml;ftsstelle steht ganz im Zeichen der Weihnachtshilfe\, die mit dieser Aktion seitens der Regierung Luans sowie der Region Hannover unterst&uuml;tzt wird. Es besteht an diesem Abend die Gelegenheit\, sich exklusiv eine individuelle Kalligrafie oder auch einen Scherenschnitt gegen eine Spende f&uuml;r den guten Zweck anfertigen zu lassen. Die Besucher k&ouml;nnen sich ihren Namen oder eine Gl&uuml;cksbotschaft schreiben lassen oder dabei zusehen\, wie vor ihren Augen ein Scherenschnitt mit einem selbstgew&auml;hlten Motiv aus Meisterhand entsteht.\nDie IBAN der HAZ-Weihnachtshilfe lautet DE43 2505 0180 0000 5725 00. Das Konto ist bei der Sparkasse Hannover.\nAlle Infos\, Berichte und Bilder im Blog auf weihnachtshilfe.haz.de
URL:https://www.weihnachtshilfe.de/event/glueck-fuer-grosszuegige-spender/
CATEGORIES:Termine
END:VEVENT
END:VCALENDAR