BEGIN:VCALENDAR
VERSION:2.0
PRODID:-//HAZ Weihnachtshilfe - ECPv5.3.0//NONSGML v1.0//EN
CALSCALE:GREGORIAN
METHOD:PUBLISH
X-WR-CALNAME:HAZ Weihnachtshilfe
X-ORIGINAL-URL:https://www.weihnachtshilfe.de
X-WR-CALDESC:Veranstaltungen f&uuml;r HAZ Weihnachtshilfe
BEGIN:VTIMEZONE
TZID:Europe/Helsinki
BEGIN:DAYLIGHT
TZOFFSETFROM:+0200
TZOFFSETTO:+0300
TZNAME:EEST
DTSTART:20160327T010000
END:DAYLIGHT
BEGIN:STANDARD
TZOFFSETFROM:+0300
TZOFFSETTO:+0200
TZNAME:EET
DTSTART:20161030T010000
END:STANDARD
END:VTIMEZONE
BEGIN:VEVENT
DTSTART;TZID=Europe/Helsinki:20161124T193000
DTEND;TZID=Europe/Helsinki:20161124T220000
DTSTAMP:20260420T132117
CREATED:20161110T130258Z
LAST-MODIFIED:20161110T130258Z
UID:1793-1480015800-1480024800@www.weihnachtshilfe.de
SUMMARY:Sammlung beim Expertenforum
DESCRIPTION:Beim HAZ-Expertenforum geht es am 24. November um die Leistungsf&auml;higkeit des K&ouml;rpers. Dazu werden Spenden f&uuml;r die HAZ-Weihnachtshilfe gesammelt. Foto: Philipp von Ditfurth \nBeim HAZ-Expertenforum treten regelm&auml;&szlig;ig Redner zu den Themen Kommunikation\, Vertrieb und Marketing auf. Am 24. November ist Life-Business Coach Caroline Bienert zu Gast. Sie spricht dar&uuml;ber\, wie man den eigenen K&ouml;rper zu h&ouml;chster Leistungsf&auml;higkeit bringen kann. Es geht um eine erfolgreiche\, sogenannte Personal Body Performance. Los geht&rsquo;s in der Ellipse im Pressehaus um 19.30 Uhr. Karten gibt es in den HAZ-Gesch&auml;ftsstellen und HAZ-Ticketshops. W&auml;hrend des Forums wird f&uuml;r die HAZ-Weihnachtshilfe gesammelt.
URL:https://www.weihnachtshilfe.de/event/sammlung-beim-expertenforum-2/
LOCATION:HAZ-Expertenforum\, August-Madsack-Strasse 1\, Hannover
CATEGORIES:Termine
END:VEVENT
END:VCALENDAR