BEGIN:VCALENDAR
VERSION:2.0
PRODID:-//HAZ Weihnachtshilfe - ECPv5.3.0//NONSGML v1.0//EN
CALSCALE:GREGORIAN
METHOD:PUBLISH
X-WR-CALNAME:HAZ Weihnachtshilfe
X-ORIGINAL-URL:https://www.weihnachtshilfe.de
X-WR-CALDESC:Veranstaltungen f&uuml;r HAZ Weihnachtshilfe
BEGIN:VTIMEZONE
TZID:Europe/Helsinki
BEGIN:DAYLIGHT
TZOFFSETFROM:+0200
TZOFFSETTO:+0300
TZNAME:EEST
DTSTART:20150329T010000
END:DAYLIGHT
BEGIN:STANDARD
TZOFFSETFROM:+0300
TZOFFSETTO:+0200
TZNAME:EET
DTSTART:20151025T010000
END:STANDARD
END:VTIMEZONE
BEGIN:VEVENT
DTSTART;TZID=Europe/Helsinki:20151114T100000
DTEND;TZID=Europe/Helsinki:20151114T160000
DTSTAMP:20260421T025021
CREATED:20151113T144457Z
LAST-MODIFIED:20151113T144457Z
UID:1361-1447495200-1447516800@www.weihnachtshilfe.de
SUMMARY:Suppe f&uuml;r die Weihnachtshilfe
DESCRIPTION:Seit 18 Jahren verkaufen die Mitglieder des Lions Clubs Hannover-Calenberg jeweils Ende November mitten auf dem Kr&ouml;pcke Suppe f&uuml;r den guten Zweck. Ehrenamtlich unterst&uuml;tzen sie mit dem Benefizverkauf von Bratwurst\, Kaffee und Kuchen die HAZ-Weihnachtshilfe und damit Menschen in Not vor Ort. Los geht&rsquo;s am Sonnabend um 10 Uhr. \nAuch in diesem Jahr haben sich prominente Unterst&uuml;tzer angesagt. So hilft zum Beispiel in der Mittagszeit die nieders&auml;chsische Kultusministerin Frauke Heiligenstadt mit. Dazu sorgen erneut die Clinic-Clowns f&uuml;r gute Stimmung. Viele prominente Mitglieder der Stadtgesellschaft kommen wieder auf einen Teller Suppe vorbei. &bdquo;Wenn das Wetter mitspielt\, werden wir einen ordentlichen Batzen Geld spenden k&ouml;nnen&ldquo;\, sagt Organisator R&uuml;diger Ahlers erfreut. Ein gro&szlig;artiges Engagement. jan
URL:https://www.weihnachtshilfe.de/event/suppe-fuer-die-weihnachtshilfe/
CATEGORIES:Termine
ATTACH;FMTTYPE=image/jpeg:https://www.weihnachtshilfe.de/wp-content/uploads/2013/11/20131116_LionsWeihnachtshil.jpg
END:VEVENT
END:VCALENDAR