BEGIN:VCALENDAR
VERSION:2.0
PRODID:-//HAZ Weihnachtshilfe - ECPv5.3.0//NONSGML v1.0//EN
CALSCALE:GREGORIAN
METHOD:PUBLISH
X-WR-CALNAME:HAZ Weihnachtshilfe
X-ORIGINAL-URL:https://www.weihnachtshilfe.de
X-WR-CALDESC:Veranstaltungen f&uuml;r HAZ Weihnachtshilfe
BEGIN:VTIMEZONE
TZID:Europe/Helsinki
BEGIN:DAYLIGHT
TZOFFSETFROM:+0200
TZOFFSETTO:+0300
TZNAME:EEST
DTSTART:20150329T010000
END:DAYLIGHT
BEGIN:STANDARD
TZOFFSETFROM:+0300
TZOFFSETTO:+0200
TZNAME:EET
DTSTART:20151025T010000
END:STANDARD
END:VTIMEZONE
BEGIN:VEVENT
DTSTART;TZID=Europe/Helsinki:20151203T100000
DTEND;TZID=Europe/Helsinki:20151206T180000
DTSTAMP:20260424T164620
CREATED:20151113T163510Z
LAST-MODIFIED:20151113T163510Z
UID:1390-1449136800-1449424800@www.weihnachtshilfe.de
SUMMARY:Weltrekord f&uuml;r den guten Zweck
DESCRIPTION:Die hannoversche Messe Pferd und Jagd soll in diesem Jahr auch f&uuml;r eine gro&szlig;e Spendenaktion zugunsten der HAZ-Weihnachtshilfe genutzt werden. Mitglieder der Nordhuf-Schmiedegemeinschaft wollen das Brandenburger Tor aus 10&#8198;000 einzelnen Hufeisen nachbauen &ndash; ein Weltrekord. Daf&uuml;r verkaufen sie Zertifikate f&uuml;r jedes einzelnde Hufeisen. Die Einnahmen werden f&uuml;r Menschen in Not vor Ort gespendet. Die Schmiede verbringen f&uuml;r diese Aktion drei Tage und drei N&auml;chte auf der Messe und schmieden fast durchg&auml;ngig. Vom 3. bis 6. Dezember kann man sie direkt auf dem Messegel&auml;nde anfeuern.
URL:https://www.weihnachtshilfe.de/event/weltrekord-fuer-den-guten-zweck/
CATEGORIES:Termine
ATTACH;FMTTYPE=image/jpeg:https://www.weihnachtshilfe.de/wp-content/uploads/2015/11/schmiede.jpeg
END:VEVENT
END:VCALENDAR