BEGIN:VCALENDAR
VERSION:2.0
PRODID:-//HAZ Weihnachtshilfe - ECPv5.3.0//NONSGML v1.0//EN
CALSCALE:GREGORIAN
METHOD:PUBLISH
X-WR-CALNAME:HAZ Weihnachtshilfe
X-ORIGINAL-URL:https://www.weihnachtshilfe.de
X-WR-CALDESC:Veranstaltungen f&uuml;r HAZ Weihnachtshilfe
BEGIN:VTIMEZONE
TZID:Europe/Helsinki
BEGIN:DAYLIGHT
TZOFFSETFROM:+0200
TZOFFSETTO:+0300
TZNAME:EEST
DTSTART:20160327T010000
END:DAYLIGHT
BEGIN:STANDARD
TZOFFSETFROM:+0300
TZOFFSETTO:+0200
TZNAME:EET
DTSTART:20161030T010000
END:STANDARD
END:VTIMEZONE
BEGIN:VEVENT
DTSTART;VALUE=DATE:20161128
DTEND;VALUE=DATE:20161204
DTSTAMP:20260425T160314
CREATED:20161110T123604Z
LAST-MODIFIED:20161110T123604Z
UID:1771-1480291200-1480809599@www.weihnachtshilfe.de
SUMMARY:Benefiz-Buchverkauf bei Leuenhagen &amp; Paris
DESCRIPTION:Die Buchhandlung Leuenhagen &amp; Paris an der Lister Meile und der Gesch&auml;ftsf&uuml;hrer Dirk Eberitzsch unterst&uuml;tzen auch in diesem Jahr die HAZ-Weihnachtshilfe auf kreative Weise. Das Team setzt dabei auf traditionelle\, hannoversche Fotografie &ndash; und ruft zu einem Benefiz-Verkauf von Wilhelm Hauschilds &bdquo;Hannover&ldquo; auf. Das Buch kostet regul&auml;r 14\,99 Euro. F&uuml;r jedes in der Woche vom 28. November bis 3. Dezember verkaufte Exemplar spendet die Buchhandlung jeweils 5 Euro an die HAZ-Weihnachtshilfe. Das Buch zeigt neu aufgefundene und bekannte Bilder des legend&auml;ren Fotografen Hauschild. Der liebevolle\, fotografische Blick f&auml;llt auf bekannte Bauten\, Stra&szlig;en und Menschen in anr&uuml;hrender Allt&auml;glichkeit. \nDirk Eberitzsch sammelt seit Jahren mit hannoverschen B&uuml;chern f&uuml;r die HAZ-Weihnachtshilfe. Foto: Jan Philipp Eberstein \nDie IBAN der HAZ-Weihnachtshilfe lautet DE43?2505?0180?0000?5725?00. Das Konto ist bei der Sparkasse Hannover.
URL:https://www.weihnachtshilfe.de/event/benefiz-buchverkauf-bei-leuenhagen-paris/
LOCATION:Benefiz-Buchverkauf\, Lister Meile 39\, Hannover
CATEGORIES:Termine
ATTACH;FMTTYPE=image/jpeg:https://www.weihnachtshilfe.de/wp-content/uploads/2016/11/Leuenhagen.jpg
END:VEVENT
BEGIN:VEVENT
DTSTART;TZID=Europe/Helsinki:20161128T193000
DTEND;TZID=Europe/Helsinki:20161128T220000
DTSTAMP:20260425T160314
CREATED:20161110T125413Z
LAST-MODIFIED:20161110T125413Z
UID:1784-1480361400-1480370400@www.weihnachtshilfe.de
SUMMARY:Knabenchor singt f&uuml;r die HAZ-Weihnachtshilfe
DESCRIPTION:Im Jahr 2015 trat das Junge Vokalensemble f&uuml;r MLP und HAZ-Weihnachtshilfe unterst&uuml;tzt vom Chor auf. Foto: Tim Schaarschmidt \nDer Finanz- und Verm&ouml;gensberater MLP unterst&uuml;tzt die HAZ-Weihnachtshilfe seit Jahren mit hochwertigen Benefizkonzerten. Im vergangenen Jahr trat in der Neust&auml;dter Hof- und Stadtkirche St. Johannis schon der M&auml;dchenchor Hannover auf. Erst im vergangenen Jahr sang das Junge Vokalensemble. Mehr als 2000 Euro kamen zusammen. Am 28. November engagiert sich das Unternehmen erneut und l&auml;dt zum Adventskonzert mit dem Knabenchor Hannover unter der Leitung von J&ouml;rg Breiding ein. Das Konzert in der Neust&auml;dter Hof- und Stadtkirche\, Rote Reihe 8\, beginnt um 19.30 Uhr. Die kostenlosen Eintrittskarten sind in der MLP Gesch&auml;ftsstelle an der Marienstra&szlig;e 11 erh&auml;ltlich. Oder man meldet sich per Mail beim Finanzberater. Detailierte Informationen gibt es unter diesem Link.
URL:https://www.weihnachtshilfe.de/event/knabenchor-singt-fuer-die-haz-weihnachtshilfe/
LOCATION:Benefiz-Adventskonzert\, Neust&auml;dter Hof- und Stadtkirche\, Hannover
CATEGORIES:Termine
END:VEVENT
BEGIN:VEVENT
DTSTART;TZID=Europe/Helsinki:20161130T183000
DTEND;TZID=Europe/Helsinki:20161130T193000
DTSTAMP:20260425T160314
CREATED:20161201T161511Z
LAST-MODIFIED:20161201T161511Z
UID:1934-1480530600-1480534200@www.weihnachtshilfe.de
SUMMARY:Sammlung zu Bennes neuem Buch
DESCRIPTION:Simon Benne stellt ein neues Hannover-Buch f&uuml;r die Weihnachtshilfe vor. \nIm Juni feierten mehrere Tausend Besucher 775 Jahre hannoversche Stadtgeschichte. HAZ-Autor Simon Benne begleitete die Feierlichkeiten in der HAZ mit unglaublichen\, ersch&uuml;tternden und herzzerrei&szlig;ende Geschichten. Diese Geschichten erscheinen nun als HAZ-Buch mit dem Titel &bdquo;66 Tage&ldquo;. Es ist ein Streifzug durch 775 Jahre Stadtgeschichte. Benne erinnert daran\, dass einer der Meuterer von der &bdquo;Bounty&ldquo; einst in der Marktkirche getauft wurde\, an Lenas Sieg beim Eurovision Song Contest und daran\, wie die Welfen auf Englands Thron kamen. Die Impressionen von 66 besonderen Tagen stellt Benne morgen um 18.30 Uhr im Historischen Museum in der Altstadt vor. Der Eintritt ist frei\, um Spenden f&uuml;r die HAZ-Weihnachtshilfe wird gebeten.
URL:https://www.weihnachtshilfe.de/event/sammlung-zu-bennes-neuem-buch/
CATEGORIES:Termine
ATTACH;FMTTYPE=image/jpeg:https://www.weihnachtshilfe.de/wp-content/uploads/2016/11/benne.jpeg
END:VEVENT
BEGIN:VEVENT
DTSTART;TZID=Europe/Helsinki:20161201T193000
DTEND;TZID=Europe/Helsinki:20161201T220000
DTSTAMP:20260425T160314
CREATED:20161110T125910Z
LAST-MODIFIED:20161110T125910Z
UID:1788-1480620600-1480629600@www.weihnachtshilfe.de
SUMMARY:Sammlung beim Expertenforum
DESCRIPTION:Beim HAZ-Expertenforum sprechen Experten &uuml;ber Kommunikation und Stressbew&auml;ltigung. Nun wird dabei auch f&uuml;r Menschen in Not gesammelt. Foto: Philipp von Ditfurth \nBeim HAZ-Expertenforum treten regelm&auml;&szlig;ig Redner zu den Themen Kommunikation\, Vertrieb und Marketing auf. Am 1. Dezember ist Dr. Martin C. Morgenstern zu Gast. Er spricht dar&uuml;ber\, wie man zu einem gelassenen Gewinner des Lebens werden. Es geht um Stressbew&auml;ltigung im Alltag und Berufsleben. Los geht&rsquo;s in der Ellipse im Pressehaus um 19.30 Uhr. Karten gibt es in den HAZ-Gesch&auml;ftsstellen und HAZ-Ticketshops. W&auml;hrend des Forums wird f&uuml;r die HAZ-Weihnachtshilfe gesammelt.
URL:https://www.weihnachtshilfe.de/event/sammlung-beim-expertenforum/
LOCATION:Expertenforum\, August-Madsack-Strasse 1\, Hannover
CATEGORIES:Termine
END:VEVENT
BEGIN:VEVENT
DTSTART;TZID=Europe/Helsinki:20161201T200000
DTEND;TZID=Europe/Helsinki:20161202T200000
DTSTAMP:20260425T160314
CREATED:20161110T172419Z
LAST-MODIFIED:20161130T103100Z
UID:1832-1480622400-1480708800@www.weihnachtshilfe.de
SUMMARY:Die Herberts sammeln mit
DESCRIPTION:Jahresr&uuml;ckblick mit Spendenaufruf: der Salon Herbert Royal ist auch f&uuml;r den guten Zweck aktiv. \nSechs M&auml;nner. Sieben Meinungen. Ein Ziel: der ultimative R&uuml;ckblick auf Hannover und den Rest der Welt. Alle zwei Monate im Theater am K&uuml;chengarten &ndash; in Wort\, Bild\, Ton und Musik. Der Salon Herbert Royal ist Wohnzimmer und Weltb&uuml;hne\, Wahnsinn und Wahnwitz\, kleines Drama und gro&szlig;er Spa&szlig;. Die sechs hann&ouml;verschen Sitzcomedy-Experten Bruno Brauer\, Imre Grimm\, Uwe Janssen\, Dirk Schmaler\, Kristian Teetz und Volker Wiedersheim sind das smarteste (Welt-&amp;-)Stadtkabarett\, das derzeit zu haben ist. Und das einzige. Und weil viele der Redakteure hauptberuflich f&uuml;r die HAZ schreiben\, unterst&uuml;tzen sie nat&uuml;rlich auch die Spendensammlung bei ihren Auftritten. Vielen Dank. Die gro&szlig;en Jahresabschlussshows laufen am 1. und 2. Dezember im Theater am Aegi jeweils um 20 Uhr. Karten gibt es in den HAZ-Ticketshops und HAZ-Gesch&auml;ftsstellen.
URL:https://www.weihnachtshilfe.de/event/die-herberts-sammeln-mit/
CATEGORIES:Termine
END:VEVENT
BEGIN:VEVENT
DTSTART;TZID=Europe/Helsinki:20161203T120000
DTEND;TZID=Europe/Helsinki:20161204T200000
DTSTAMP:20260425T160314
CREATED:20161124T171330Z
LAST-MODIFIED:20161124T171330Z
UID:1888-1480766400-1480881600@www.weihnachtshilfe.de
SUMMARY:Sammlung beim Design-Zauber
DESCRIPTION:Die Betreiber von Foodtrucks sammeln nun auch f&uuml;r die Weihnachtshilfe. \nBei einem Foodtruck-Festival kommen kulinarische Genie&szlig;er auf ihre Kosten. In diesem Jahr l&auml;dt das M&ouml;belhaus SofaLoft an der Jordanstra&szlig;e 26 zum ersten weihnachtlichen Foodtruckfest mit Burgern und veganen K&ouml;stlichkeiten. Unter dem Motto &bdquo;Design-Zauber&ldquo; begleiten bis zu neun Foodtrucks den Design-Weihnachtsmarkt mit vielen Attraktionen f&uuml;r die Besucher. Die Truckbetreiber haben angek&uuml;ndigt\, f&uuml;r die HAZ-Weihnachtshilfe einen Teil ihrer Einnahmen zu spenden. Ge&ouml;ffnet ist jeweils von 12 bis 20 Uhr\, der Eintritt zu den Foodtrucks ist nat&uuml;rlich kostenlos. Offene Feuerstellen sorgen f&uuml;r ein sch&ouml;nes Weihnachtsgef&uuml;hl.
URL:https://www.weihnachtshilfe.de/event/sammlung-beim-design-zauber/
LOCATION:Design-Zauber\, Jordanstra&szlig;e 26\, Hannover
CATEGORIES:Termine
END:VEVENT
BEGIN:VEVENT
DTSTART;TZID=Europe/Helsinki:20161208T100000
DTEND;TZID=Europe/Helsinki:20161211T180000
DTSTAMP:20260425T160314
CREATED:20161110T171910Z
LAST-MODIFIED:20161110T171910Z
UID:1828-1481191200-1481479200@www.weihnachtshilfe.de
SUMMARY:Hufschmiede sammeln bei Pferd und Jagd
DESCRIPTION:Am Ende hatte sich die M&uuml;he gelohnt: im Beisein der 45 Schmiede und des nieders&auml;chsischen Ministerpr&auml;sidenten Stefan Weil wurde feierlich der Scheck in H&ouml;he von mehr als 10000 Euro &uuml;bergeben. Foto: Tim Schaarschmidt \nDie Hufschmiede Norddeutschlands haben im vergangenen Jahr eine sensationelle Spendenaktion durchgef&uuml;hrt. Aus Tausenden Hufeisen schmiedeten sie ein mehr als sechs Meter Hohes Abbild des Brandenburger Tors. Die Vereinigung Nordhuf entschied\, dass die Einnahmen aus dem Verkauf an soziale Organisationen gespendet werden. Die HAZ-Weihnachtshilfe bekam mehr als 10000 Euro &ndash; eine gro&szlig;z&uuml;gige Unterst&uuml;tzung. Die Schmiede planen trotz der Anstrengungen im vergangenen Jahr erneut zur Messe &bdquo;Pferd und Jagd&ldquo; eine Benefiz-Aktion. So kommen alle Einnahmen aus dem sogenannten Kinderschmieden erneut Menschen in Not vor Ort zugute. Erstmalig bieten die Schmiede auch Kunst an &ndash; vom Dackel gefertigt aus Hufeisen bis zum edlen Pferd. Dazu halten sie Expertenvortr&auml;ge zu Hufkrankheiten zum Beispiel und Pferdebeschlagung und sammeln Spenden. Die Schmiede kann man vom 8. bis 11. Dezember jeweils ab 10 Uhr auf dem Messegel&auml;nde erleben. \nDie Schmiede schwei&szlig;ten und werkelten mehr als drei Tage und N&auml;chte f&uuml;r das Brandenburger Tor durch. Foto: Schaarschmidt
URL:https://www.weihnachtshilfe.de/event/hufschmiede-sammeln-bei-pferd-und-jagd/
LOCATION:Pferd und Jagd\, Messegel&auml;nde\, Hannover
CATEGORIES:Termine
END:VEVENT
BEGIN:VEVENT
DTSTART;TZID=Europe/Helsinki:20161208T193000
DTEND;TZID=Europe/Helsinki:20161208T220000
DTSTAMP:20260425T160314
CREATED:20161201T161058Z
LAST-MODIFIED:20161201T161244Z
UID:1930-1481225400-1481234400@www.weihnachtshilfe.de
SUMMARY:Spendensammlung bei Buchvorstellung
DESCRIPTION:Margot K&auml;&szlig;mannm und Heinrich Bedford-Strohm lesen f&uuml;r eine Spende an die HAZ-Weihnachtshilfe. \nAm Donnerstag\, 8. Dezember\, engagiert sich die ehemalige Landesbisch&ouml;fin und Ratsvorsitzende der Evangelischen Kirche Margot K&auml;&szlig;mann. Gemeinsam mit Autor Heinrich Bedford-Strohm stellt sie das Buch &bdquo;Die Welt ver&auml;ndern&ldquo; zum Reformationsjubil&auml;um in der Neust&auml;dter Hof- und Stadtkirche vor. Die Moderation &uuml;bernimmt HAZ-Redakteur Michael Berger. Los geht&rsquo;s um 19.30 Uhr. Der Eintritt ist kostenlos. Um Spenden f&uuml;r die HAZ-Weihnachtshilfe wird gebeten.
URL:https://www.weihnachtshilfe.de/event/1930/
CATEGORIES:Termine
ATTACH;FMTTYPE=image/jpeg:https://www.weihnachtshilfe.de/wp-content/uploads/2016/12/k&auml;ssmann-e1480602518408.jpg
END:VEVENT
BEGIN:VEVENT
DTSTART;TZID=Europe/Helsinki:20161209T123000
DTEND;TZID=Europe/Helsinki:20161209T140000
DTSTAMP:20260425T160314
CREATED:20161202T100855Z
LAST-MODIFIED:20161202T100855Z
UID:1947-1481286600-1481292000@www.weihnachtshilfe.de
SUMMARY:50 Kinder singen an der Pyramide
DESCRIPTION:Neulich bekam die Redaktion einen wunderbaren Anruf: Kinder der Klasse 2 C der Grundschule Gartenheimstra&szlig;e aus Bothfeld meldeten sich und erz&auml;hlten von einem geplanten Konzert. Am 9. Dezember genau um 12.30 Uhr wollen sie direkt auf dem Kr&ouml;pcke Weihnachtslieder singen. Dazu tragen sie Weihnachtsm&uuml;tzen. Treffpunkt ist an der Weihnachtspyramide. Vielen Dank!
URL:https://www.weihnachtshilfe.de/event/50-kinder-singen-an-der-pyramide/
CATEGORIES:Termine
ATTACH;FMTTYPE=image/png:https://www.weihnachtshilfe.de/wp-content/uploads/2015/12/top-18.png
END:VEVENT
BEGIN:VEVENT
DTSTART;TZID=Europe/Helsinki:20161210T110000
DTEND;TZID=Europe/Helsinki:20161210T130000
DTSTAMP:20260425T160314
CREATED:20161201T163136Z
LAST-MODIFIED:20161201T163136Z
UID:1938-1481367600-1481374800@www.weihnachtshilfe.de
SUMMARY:Benefiz-Auktion von Fotos und DFB-Trikot
DESCRIPTION:Polizeipr&auml;sident Volker Kluwe unterst&uuml;tzt die Weihnachtshilfe mit einem besonderen DFB-Trikot. Foto: Thomas \nDie Aktionswoche wird durch eine Benefiz-Auktion abgeschlossen. HAZ-Fotografen versteigern ihre fotografischen Beitr&auml;ge des diesj&auml;hrigen Lumix\, das Festival f&uuml;r jungen Fotojournalismus. Die Auktion beginnt am Sonnabend\, 10. Dezember\, um 11 Uhr in der HAZ-Gesch&auml;ftsstelle Lange Laube. Ein besonderes Auktions-Objekt kommt von der Polizeidirektion Hannover dazu. Beim Fu&szlig;ballspiel der Nationalmannschaft gegen Nordirland am 11. Oktober in Hannover wurde Polizeipr&auml;sident Volker Kluwe ein extra daf&uuml;r angefertigtes DFB-Trikot samt aufgedruckter Begegnungsdetails &uuml;bergeben &ndash; als Dank f&uuml;r den sicheren Ablauf. Dazu kam ein Aufladeger&auml;t f&uuml;r Handys\, eine sogenannte Powerbank mit DFB-Logo. Die Polizei darf solche Geschenke nicht annehmen und l&auml;sst es nun f&uuml;r die HAZ-Weihnachtshilfe versteigern &ndash; eine wunderbare Geste. &bdquo;Allein das Trikot sollte aber schon mehr als 100 Euro einbringen&ldquo;\, sagt Kluwe. Dazu spendet J&ouml;rg Vespermann\, Gesch&auml;ftsf&uuml;hrer der Berufskraftfahrer-Akademie-Nord\, ein Trikot der Hannover Indians mit Autogrammen der Spieler.
URL:https://www.weihnachtshilfe.de/event/benefiz-auktion-von-fotos-und-dfb-trikot/
CATEGORIES:Termine
ATTACH;FMTTYPE=image/jpeg:https://www.weihnachtshilfe.de/wp-content/uploads/2016/12/kluwe.jpg
END:VEVENT
BEGIN:VEVENT
DTSTART;TZID=Europe/Helsinki:20161210T150000
DTEND;TZID=Europe/Helsinki:20161210T180000
DTSTAMP:20260425T160314
CREATED:20161201T161911Z
LAST-MODIFIED:20161201T161911Z
UID:1936-1481382000-1481392800@www.weihnachtshilfe.de
SUMMARY:Adventskonzert der Musikschule
DESCRIPTION:Schon 2014 traten junge S&auml;nger und S&auml;ngerinnen der Musikschule f&uuml;r die HAZ-Weihnachtshilfe auf. \nDie Musikschule der Landeshauptstadt Hannover l&auml;dt am Sonnabend\, 10. Dezember\, um 15 Uhr zum Adventskonzert in der Lister Matth&auml;uskirche\, W&ouml;hlerstra&szlig;e 13\, ein. Unter der Leitung von Viola Beck singen und spielen Sch&uuml;lerInnen der Musikschule weihnachtliche Lieder. Die musikalische Spendensammlung hat schon eine gewisse Tradition. Vielen Dank f&uuml;r die treue Unterst&uuml;tzung.
URL:https://www.weihnachtshilfe.de/event/adventskonzert-der-musikschule/
CATEGORIES:Termine
ATTACH;FMTTYPE=image/jpeg:https://www.weihnachtshilfe.de/wp-content/uploads/2015/01/WH-Musikschule-Gruppenbild_klein.jpg
END:VEVENT
BEGIN:VEVENT
DTSTART;TZID=Europe/Helsinki:20161211T190000
DTEND;TZID=Europe/Helsinki:20161211T230000
DTSTAMP:20260425T160314
CREATED:20161110T131953Z
LAST-MODIFIED:20161211T081619Z
UID:1803-1481482800-1481497200@www.weihnachtshilfe.de
SUMMARY:Opus 112 l&auml;dt in die Marktkirche
DESCRIPTION:Opus 112 spielt seit Jahre f&uuml;r die HAZ-Weihnachtshilfe ein Benefiz-Konzert direkt in der Marktkirche. Foto: K&ouml;rner \nDas sinfonische Blasorchester der Feuerwehr Opus 112 geht in diesem Jahr vom 16. Dezember bis zum 8. Januar auf eine Konzerttournee durch China. Die Musiker spielen in Taiyuan\, Shenyang und Chongqing. Sie treten vor allem in gro&szlig;en Theatern auf und geben insgesamt zw&ouml;lf Konzert. Vorher laden sie in Hannover am 11. Dezember um 19 Uhr zum traditionellen Weihnachtskonzert in die Marktkirche ein. Dort sammelten die Musiker in den vergangenen Jahren jeweils mehr als 1000 Euro Spenden. Eine gro&szlig;artige Unterst&uuml;tzung.
URL:https://www.weihnachtshilfe.de/event/opus-112-laedt-in-die-marktkirche-2/
LOCATION:Weihnachtskonzert\, Marktkirche\, Hannover
CATEGORIES:Termine
ATTACH;FMTTYPE=image/jpeg:https://www.weihnachtshilfe.de/wp-content/uploads/2015/12/opus-2.jpg
END:VEVENT
BEGIN:VEVENT
DTSTART;TZID=Europe/Helsinki:20161212T190000
DTEND;TZID=Europe/Helsinki:20161212T210000
DTSTAMP:20260425T160314
CREATED:20161110T182024Z
LAST-MODIFIED:20161110T182024Z
UID:1834-1481569200-1481576400@www.weihnachtshilfe.de
SUMMARY:Eine Lachparty f&uuml;r die Spendensammlung
DESCRIPTION:Lachen f&uuml;r den guten Zweck. Foto: Mario Moers \nRenate Lena Hannemann ist Ergotherapeutin und Lachyogalehrerin. Unter dem Motto &bdquo;Lachen f&uuml;r den guten Zweck&ldquo; veranstaltet sie am Montag\, 12. Dezember\, Hannovers erste Weihnachts-Lachparty im Freizeitheim Linden. Insgesamt dauert die Party mit Lachyogaeinlagen 90 Minuten. Kosten entstehen nicht\, aber ein Spendenschwein bittet um eine Zuwendung f&uuml;r die HAZ-Weihnachtshilfe. &bdquo;Ich finde die Weihnachtshilfe klasse\, weil Menschen in der Region Hannover bedacht werden. Es sollte f&uuml;r alle in der Weihnachtszeit etwas zu lachen geben.&ldquo; Los geht&rsquo;s im Freizeitheim Linden um 19 Uhr. Um eine Anmeldung wird per Mail an lenowsky@gmx.de gebeten.
URL:https://www.weihnachtshilfe.de/event/eine-lachparty-fuer-die-spendensammlung/
CATEGORIES:Termine
END:VEVENT
BEGIN:VEVENT
DTSTART;TZID=Europe/Helsinki:20161215T170000
DTEND;TZID=Europe/Helsinki:20161215T200000
DTSTAMP:20260425T160314
CREATED:20161110T170953Z
LAST-MODIFIED:20161214T101721Z
UID:1824-1481821200-1481832000@www.weihnachtshilfe.de
SUMMARY:Rat der Stadt singt
DESCRIPTION:Der Rat sang 2015 unterst&uuml;tzt von Oberb&uuml;rgermeister Stefan Schostok Weihnachtslieder. \nDie Mitglieder des Rat der Stadt haben schon oft auf dem Weihnachtsmarkt in der Altstadt Weihnachtslieder gesungen &ndash; sogar mit Unterst&uuml;tzung der Dezernenten und des Oberb&uuml;rgermeisters Stefan Schostok. Begleitet von Musikerkl&auml;ngen animierten die Politiker auch Marktbesucher zur Gesangseinlage f&uuml;r den guten Zweck und sammelten so Spenden f&uuml;r die Weihnachtshilfe an. Und ihr &bdquo;Jingle Bells&ldquo; wird von Jahr zu Jahr besser. Auch in diesem Jahr sind die Politiker dabei &ndash; und treffen sich an der B&uuml;hne an der Marktkirche am 22. Dezember. \nViele Hannoveraner unterst&uuml;tzten ihren Rat bei der Gesangseinlage f&uuml;r den guten Zweck. Foto: Thomas (2)
URL:https://www.weihnachtshilfe.de/event/rat-der-stadt-singt/
LOCATION:Rat der Stadt singt\, An der Marktkirche\, Hannover
CATEGORIES:Termine
END:VEVENT
BEGIN:VEVENT
DTSTART;TZID=Europe/Helsinki:20161218T200000
DTEND;TZID=Europe/Helsinki:20161218T230000
DTSTAMP:20260425T160314
CREATED:20161110T124641Z
LAST-MODIFIED:20161110T124641Z
UID:1782-1482091200-1482102000@www.weihnachtshilfe.de
SUMMARY:Sammlung beim Poetry Slam in der Oper
DESCRIPTION:Die Slammer sammelten 2015 mehr als 1600 Euro Spenden ein.Foto: Matthias Stehr \nDie besten Poetry Slam-Teams aus dem deutschsprachigen Raum treffen sich am 18. Dezember in der Staatsoper Hannover. Die besten Live-Literaten treten dann bei einem Wettbewerb gegeneinander an. Das Publikum bestimmt &uuml;ber die Gewinner. An die Mikrofone treten dabei vier verdiente Slam-Verb&uuml;nde aus dem gesamten Bundesgebiet und dar&uuml;ber hinaus. Von Dichter-Koryph&auml;en und Lyrik-B&uuml;ndnissen &uuml;ber Beatbox- und-Rap-Combos bis hin zur Comedy-Kapelle: Nach zwei Durchg&auml;ngen bestreiten die zwei besten Teams ein garantiert furioses Stechen. Durch den Abend f&uuml;hren die Autoren\, Moderatoren und Literaturveranstalter Henning Chadde und Jan Egge Sedelies. Und nat&uuml;rlich wird w&auml;hrend der Vorstellung f&uuml;r die HAZ-Weihnachtshilfe gesammelt. In den vergangenen Jahren kamen mehr als 1000 Euro zusammen.
URL:https://www.weihnachtshilfe.de/event/sammlung-beim-poetry-slam-in-der-oper/
CATEGORIES:Termine
END:VEVENT
BEGIN:VEVENT
DTSTART;TZID=Europe/Helsinki:20161219T170000
DTEND;TZID=Europe/Helsinki:20161219T200000
DTSTAMP:20260425T160314
CREATED:20161110T170556Z
LAST-MODIFIED:20161110T170556Z
UID:1820-1482166800-1482177600@www.weihnachtshilfe.de
SUMMARY:Regionsversammlung singt
DESCRIPTION:Regionspr&auml;sident Hauke Jagau begleitet die Politiker auf Gitarre. Foto: Thomas \nDie Mitglieder der Regionsversammlung haben schon zweimal auf dem Weihnachtsmarkt in der Altstadt Weihnachtslieder gesungen &ndash; und werden immer besser. Begleitet von Gitarrenkl&auml;ngen des Regionspr&auml;sidenten Hauke Jagau animierten die Politiker auch Marktbesucher zur Gesangseinlage f&uuml;r den guten Zweck und sammelten so Spenden f&uuml;r die Weihnachtshilfe an. Auch in diesem Jahr sind die Politiker dabei &ndash; und treffen sich an der B&uuml;hne an der Marktkirche am 19. Dezember.
URL:https://www.weihnachtshilfe.de/event/regionsversammlung-singt/
LOCATION:Regionsversammlung singt\, An der Marktkirche\, Hannover
CATEGORIES:Termine
END:VEVENT
END:VCALENDAR