BEGIN:VCALENDAR
VERSION:2.0
PRODID:-//HAZ Weihnachtshilfe - ECPv5.3.0//NONSGML v1.0//EN
CALSCALE:GREGORIAN
METHOD:PUBLISH
X-WR-CALNAME:HAZ Weihnachtshilfe
X-ORIGINAL-URL:https://www.weihnachtshilfe.de
X-WR-CALDESC:Veranstaltungen f&uuml;r HAZ Weihnachtshilfe
BEGIN:VTIMEZONE
TZID:Europe/Helsinki
BEGIN:DAYLIGHT
TZOFFSETFROM:+0200
TZOFFSETTO:+0300
TZNAME:EEST
DTSTART:20170326T010000
END:DAYLIGHT
BEGIN:STANDARD
TZOFFSETFROM:+0300
TZOFFSETTO:+0200
TZNAME:EET
DTSTART:20171029T010000
END:STANDARD
END:VTIMEZONE
BEGIN:VEVENT
DTSTART;TZID=Europe/Helsinki:20171129T160000
DTEND;TZID=Europe/Helsinki:20171129T200000
DTSTAMP:20260424T191518
CREATED:20171127T175603Z
LAST-MODIFIED:20171127T175620Z
UID:2285-1511971200-1511985600@www.weihnachtshilfe.de
SUMMARY:Weihnachtsmarkt wird er&ouml;ffnet
DESCRIPTION:Am Mittwoch\, 29.November\, wird der traditionelle Weihnachtsmarkt in der Altstadt mit starken Stimmen er&ouml;ffnet. Offiziell bringen Ministerpr&auml;sident Stephan Weil\, Oberb&uuml;rgermeister Stefan Schostok\, Stadtsuperintendent Hans-Martin Heinemann\, HAZ-Chefredakteur Hendrik Brandt und Harald M&uuml;ller f&uuml;r die Schausteller den gro&szlig;en Weihnachtsbaum direkt an der Marktkirche zum Erstrahlen. Doch direkt im Anschluss sind die Besucher selbst gefordert\, ihren Weihnachtsmarkt zu er&ouml;ffnen. Gemeinsam mit dem Polizeichor und dem Chor der Nationen werden ab 16 Uhr auf und vor der B&uuml;hne Weihnachtslieder gesungen. Mitarbeiter der HAZ verteilen dazu stimmungsvolle Windlichter und Textbl&auml;tter. Die K&uuml;nstlerin Diliana Michailova wird die Ch&ouml;re und Besucher liebevoll dirigieren. \nDie Ch&ouml;re haben sich im Vorfeld auf drei gemeinsame Lieder geeinigt. Gesungen werden die Lieder&nbsp;&bdquo;Alle Jahre wieder&ldquo;\,&nbsp;&bdquo;Oh du Fr&ouml;hliche&ldquo; und&nbsp;&bdquo;Tochter Zion&ldquo;. Dazu sammeln die sogenannten HAZ-Engel auch in diesem Jahr f&uuml;r die HAZ-Weihnachtshilfe\, die seit 1975 Menschen in Not in der Region Hannover unterst&uuml;tzt. Um 17.30 Uhr wird das Programm mit der Gruppe Albers Ahoi fortgesetzt\, die f&uuml;r Seefahrerromantik mit Liedern von Hans Albers sorgen wird.
URL:https://www.weihnachtshilfe.de/event/weihnachtsmarkt-wird-eroeffnet/
CATEGORIES:Termine
ATTACH;FMTTYPE=image/jpeg:https://www.weihnachtshilfe.de/wp-content/uploads/2016/11/gruppe.jpg
END:VEVENT
BEGIN:VEVENT
DTSTART;TZID=Europe/Helsinki:20171202T090000
DTEND;TZID=Europe/Helsinki:20171202T210000
DTSTAMP:20260424T191518
CREATED:20171127T180104Z
LAST-MODIFIED:20171127T180123Z
UID:2289-1512205200-1512248400@www.weihnachtshilfe.de
SUMMARY:Eine Radtour hilft gegen die K&auml;lte
DESCRIPTION:Auch in den kommenden Tagen wird flei&szlig;ig f&uuml;r die HAZ-Weihnachtshilfe gesammelt. Eine besondere Aktion bereiten die Radfahrer der Initiative&nbsp;&bdquo;Gegen die K&auml;lte&ldquo; vor.&nbsp;Ingvar Vollprecht\, der junge Vorsitzende des&nbsp;Hannoverschen Radsport-Club HRC\, m&ouml;chte am Sonnabend mit einem Radsportlerteam von Hannover aus ins Christkinddorf Himmelpforten fahren und mit jedem absolvierten Kilometer Spenden sammeln. Insgesamt umfasst die Strecke 170 Kilometer. Es sind nur zwei kurze Pausen geplant. Vollprecht hat angek&uuml;ndigt\, auch Weihnachtswunschzettel mit nach Himmelpforten zu nehmen. Wer den Radkurieren also Post f&uuml;r das Christkind mitgeben m&ouml;chte\, sollte sich am Sonnabend rechtzeitig um 8.45 Uhr vor dem Neuen Rathaus einfinden. Um 9 Uhr beginnt die Fahrt. Die Fahrt selbst l&auml;sst sich sogar per Livetracking unter www.gdk-tour.de verfolgen. Falls es am Sonnabend zu arg regnen sollte\, wird die Fahrt auf Sonntag\, 3. Dezember\, verschoben.
URL:https://www.weihnachtshilfe.de/event/sammlung-beim-steelman/
CATEGORIES:Termine
ATTACH;FMTTYPE=image/jpeg:https://www.weihnachtshilfe.de/wp-content/uploads/2016/12/radeln-1.jpg
END:VEVENT
BEGIN:VEVENT
DTSTART;TZID=Europe/Helsinki:20171203T100000
DTEND;TZID=Europe/Helsinki:20171203T160000
DTSTAMP:20260424T191518
CREATED:20171127T180848Z
LAST-MODIFIED:20171127T180848Z
UID:2294-1512295200-1512316800@www.weihnachtshilfe.de
SUMMARY:Kraftanstrengung f&uuml;r den guten Zweck
DESCRIPTION:Am 3. Dezember startet der 4. Steelman in Langenhagen. Teilnehmer des Cross-Hindernis-Laufs m&uuml;ssen viel klettern\, durch kalte Gr&auml;ben stapfen und sich gegen Wasserbomben durchsetzen. Dank der Hannoverschen Volksbank und den Veranstaltern von Eichels Event werden f&uuml;r jeden Teilnehmer mit Weihnachtsmannm&uuml;tze 5 Euro an die Weihnachtshilfe gespendet. Los geht&rsquo;s um 10 Uhr.
URL:https://www.weihnachtshilfe.de/event/kraftanstrengung-fuer-den-guten-zweck/
CATEGORIES:Termine
ATTACH;FMTTYPE=image/jpeg:https://www.weihnachtshilfe.de/wp-content/uploads/2017/01/steelman-2-e1543494810531.jpg
END:VEVENT
BEGIN:VEVENT
DTSTART;TZID=Europe/Helsinki:20171203T200000
DTEND;TZID=Europe/Helsinki:20171203T230000
DTSTAMP:20260424T191518
CREATED:20171127T175837Z
LAST-MODIFIED:20171127T175853Z
UID:2287-1512331200-1512342000@www.weihnachtshilfe.de
SUMMARY:Sammlung beim Poetry Slam
DESCRIPTION:In der Staatsoper l&auml;uft am 3. Dezember erneut ein Poetry Slam\, ein moderner Dichterwettbewerb. Wie in den vergangenen Jahren lassen die Slammer w&auml;hrend der Veranstaltung Sammelb&uuml;chen durchs Publikum gehen und w&uuml;nschen sich Spenden f&uuml;r Menschen in Not vor Ort. Los geht&rsquo;s am Sonntag um 20 Uhr.
URL:https://www.weihnachtshilfe.de/event/sammlung-beim-poetry-slam/
CATEGORIES:Termine
ATTACH;FMTTYPE=image/jpeg:https://www.weihnachtshilfe.de/wp-content/uploads/2016/12/slammer.jpg
END:VEVENT
BEGIN:VEVENT
DTSTART;TZID=Europe/Helsinki:20171204T183000
DTEND;TZID=Europe/Helsinki:20171204T210000
DTSTAMP:20260424T191518
CREATED:20171127T181350Z
LAST-MODIFIED:20171127T181350Z
UID:2296-1512412200-1512421200@www.weihnachtshilfe.de
SUMMARY:Freundeskreis l&auml;dt zur Gala ein
DESCRIPTION:Der Freundeskreis Hannover ist der gr&ouml;&szlig;te Verein\, der sich f&uuml;r das angenehme Miteinander in der Stadt Hannover engagiert. Nicht nur darum unterst&uuml;tzen die Mitglieder auch in diesem Jahr die Spendensammlung f&uuml;r Menschen in Not vor Ort &ndash; und laden zu einer Benefiz-Gala ein. Im Leibniz Theater an der Kommandanturstra&szlig;e wird es am 4. Dezember um 18 Uhr musikalisch. Mehr wird noch nicht verraten.
URL:https://www.weihnachtshilfe.de/event/freundeskreis-laedt-zur-gala-ein/
CATEGORIES:Termine
ATTACH;FMTTYPE=image/jpeg:https://www.weihnachtshilfe.de/wp-content/uploads/2015/12/Kestner3-e1450449369833.jpg
END:VEVENT
BEGIN:VEVENT
DTSTART;TZID=Europe/Helsinki:20171204T190000
DTEND;TZID=Europe/Helsinki:20171204T210000
DTSTAMP:20260424T191518
CREATED:20171127T180424Z
LAST-MODIFIED:20171127T180424Z
UID:2292-1512414000-1512421200@www.weihnachtshilfe.de
SUMMARY:MLP-Benefiz-Konzert mit dem Jungen Vokalensemble
DESCRIPTION:In den kommenden Wochen helfen vor allem Musiker bei der Spendensammlung. So laden die Finanzexperten von MLP am 4. Dezember zum Benefiz-Konzert des Jungen Vokalensemble Hannover in die Neust&auml;dter Hof- und Stadtkirche ein. Karten gibt es in den MLP-Gesch&auml;ftsstellen wie zum Beispiel an der Marienstra&szlig;e 11.
URL:https://www.weihnachtshilfe.de/event/mlp-benefiz-konzert-mit-dem-jungen-vokalensemble/
CATEGORIES:Termine
ATTACH;FMTTYPE=image/jpeg:https://www.weihnachtshilfe.de/wp-content/uploads/2015/12/MLP.jpg
END:VEVENT
BEGIN:VEVENT
DTSTART;TZID=Europe/Helsinki:20171205T193000
DTEND;TZID=Europe/Helsinki:20171205T210000
DTSTAMP:20260424T191518
CREATED:20171204T131220Z
LAST-MODIFIED:20171204T131221Z
UID:2331-1512502200-1512507600@www.weihnachtshilfe.de
SUMMARY:Benefizlesung im Historischen Museum
DESCRIPTION:Am Dienstag stellt HAZ-Redakteur und Historiker Simon Benne den neuen HAZ-Band&nbsp;&bdquo;Fremde Heimat &ndash; als die Vertriebenen nach Hannover kamen&ldquo; im Historischen Museum vor. Das Buch ist das Ergebnis eines Aufrufs an Zeitzeugen\, Berichte &uuml;ber die Ankunft und den Alltag der Vertriebenen in der Nachkriegszeit an die Redaktion zu schicken. Anhand eingegangener Berichten zeichnet der Band nun ein anschauliches Bild der Verh&auml;ltnisse in Hannover nach dem Krieg. Zur Buchvorstellung um 19.30 Uhr im Historischen Museum spricht auch&nbsp;Katharina Walter\, die als Museumsmitarbeiterin f&uuml;r die Bewahrung der fotografischen Sch&auml;tze des Hauses zust&auml;ndig ist. Der Eintritt ist frei\, um Spenden f&uuml;r die HAZ-Weihnachtshilfe wird gebeten.
URL:https://www.weihnachtshilfe.de/event/benefizlesung-im-historischen-museum/
CATEGORIES:Termine
ATTACH;FMTTYPE=image/jpeg:https://www.weihnachtshilfe.de/wp-content/uploads/2017/12/Simon-Benne.jpg
END:VEVENT
BEGIN:VEVENT
DTSTART;TZID=Europe/Helsinki:20171206T180000
DTEND;TZID=Europe/Helsinki:20171206T190000
DTSTAMP:20260424T191518
CREATED:20171204T131604Z
LAST-MODIFIED:20171204T131604Z
UID:2335-1512583200-1512586800@www.weihnachtshilfe.de
SUMMARY:Nikolaus-Flashmob hilft bei der Spendensammlung
DESCRIPTION:Besonders weihnachtlich wird es am Nikolaustag\, am 6. Dezember. Der Vespa Club Hannover von 1950 und die Segway-Touren-Anbieter um Holger Wohllebe wollen am Mittwoch als Weihnachtsm&auml;nner und Engel rund um Oper und Kr&ouml;pcke Spenden sammeln. Der Nikolaus-Flashmob beginnt um 18 Uhr am Georgsplatz. Anschlie&szlig;end gibt es eine kleine Tour durch die Osterstra&szlig;e\, Marktstra&szlig;e\, Karmaschstra&szlig;e und rund um die Oper. Um 18.20 Uhr etwa versammeln sich die Teilnehmer zum Gruppenfoto und sammeln Spenden in der Georgsstra&szlig;e.
URL:https://www.weihnachtshilfe.de/event/nikolaus-flashmob-hilft-bei-der-spendensammlung/
CATEGORIES:Termine
ATTACH;FMTTYPE=image/jpeg:https://www.weihnachtshilfe.de/wp-content/uploads/2016/12/vespa2.jpg
END:VEVENT
BEGIN:VEVENT
DTSTART;TZID=Europe/Helsinki:20171207T100000
DTEND;TZID=Europe/Helsinki:20171207T123000
DTSTAMP:20260424T191518
CREATED:20171204T131940Z
LAST-MODIFIED:20171204T131940Z
UID:2337-1512640800-1512649800@www.weihnachtshilfe.de
SUMMARY:Mit Trompeten Gutes tun
DESCRIPTION:Vor ein paar Jahren hatte es die Orchesterklasse der KGS Sehnde auf dem Kr&ouml;pcke nicht einfach. Der Wind blies den Musikern der sechsten Klasse die Notenst&auml;nder um\, es war ungem&uuml;tlich kalt\, am Ende nieselte es sogar. Nun wollen es die Musiker erneut wissen und spielen am Donnerstag um 10 Uhr trotz Wind und K&auml;lte f&uuml;r den guten Zweck.
URL:https://www.weihnachtshilfe.de/event/mit-trompeten-gutes-tun/
CATEGORIES:Termine
ATTACH;FMTTYPE=image/jpeg:https://www.weihnachtshilfe.de/wp-content/uploads/2014/12/okp&auml;1-e1418907254141.jpg
END:VEVENT
BEGIN:VEVENT
DTSTART;TZID=Europe/Helsinki:20171207T100000
DTEND;TZID=Europe/Helsinki:20171210T180000
DTSTAMP:20260424T191518
CREATED:20171204T132646Z
LAST-MODIFIED:20171204T132646Z
UID:2341-1512640800-1512928800@www.weihnachtshilfe.de
SUMMARY:Schmiede sammeln bei der Pferd und Jagd
DESCRIPTION:Engagiert sind neben Musikern auch in diesem Jahr die Hufschmiede. So bereiten die Schmiede der Vereinigung&nbsp;Nordhuf&nbsp;derzeit eine Schmiede-Aktion zur Messe Pferd &amp; Jagd vor. So soll es erneut das beliebte Kinderschmieden w&auml;hrend der Messe geben. Zus&auml;tzlich wollen die Schmiede die Pferde der Quadriga &ndash; bekannt vom Brandenburger Tor &ndash; aus Hufeisen nachschmieden. Die fertigen Kunstpferde sollen vor Ort versteigert werden.
URL:https://www.weihnachtshilfe.de/event/schmiede-sammeln-bei-der-pferd-und-jagd/
CATEGORIES:Termine
ATTACH;FMTTYPE=image/jpeg:https://www.weihnachtshilfe.de/wp-content/uploads/2017/11/WH-Cover-Jochen-Lahmann-e1512556098850.jpg
END:VEVENT
BEGIN:VEVENT
DTSTART;TZID=Europe/Helsinki:20171207T120000
DTEND;TZID=Europe/Helsinki:20171207T173000
DTSTAMP:20260424T191518
CREATED:20171204T132317Z
LAST-MODIFIED:20171204T132317Z
UID:2339-1512648000-1512667800@www.weihnachtshilfe.de
SUMMARY:Keksbasar hilft Menschen in Not
DESCRIPTION:Die Fachschaft Sonderp&auml;dagogik der Universit&auml;t Hannover l&auml;dt am Donnerstag\, 7. Dezember\, erneut zu einem Weihnachtsmarkt. Im Innenhof der Schlosswender Stra&szlig;e 1 verkaufen Studierende kleine K&ouml;stlichkeiten &ndash; auch f&uuml;r Veganer. Der Erl&ouml;s geht auch in diesem Jahr an die HAZ-Weihnachtshilfe. Vielen Dank! Der Verkauf beginnt ab 12 Uhr.
URL:https://www.weihnachtshilfe.de/event/keksbasar-hilft-menschen-in-not/
CATEGORIES:Termine
ATTACH;FMTTYPE=image/jpeg:https://www.weihnachtshilfe.de/wp-content/uploads/2014/11/Studenten.jpg
END:VEVENT
BEGIN:VEVENT
DTSTART;TZID=Europe/Helsinki:20171210T153000
DTEND;TZID=Europe/Helsinki:20171210T170000
DTSTAMP:20260424T191518
CREATED:20171208T120331Z
LAST-MODIFIED:20171208T120332Z
UID:2396-1512919800-1512925200@www.weihnachtshilfe.de
SUMMARY:Zukunftswerkstatt sammelt beim Tag der offenen T&uuml;r
DESCRIPTION:Der Verein Zukunftswerkstatt Ihme-Zentrum setzt sich f&uuml;r eine nachhaltige und kreative Nutzung des Ihmezentrums ein. Die Mitglieder sorgen f&uuml;r einen Austausch zwischen den Bewohnern\, der Stadt und dem Eigent&uuml;mer Intown. Daf&uuml;r laden sie zu Ausstellungen\, Performances und Konzerten &ndash; und immer wieder zu Diskussionen rund ums Ihmezentrum. F&uuml;r das Engagement war der Verein zweimal f&uuml;r den Deutschen Lokalen Nachhaltigkeitspreis nominiert. Nun haben die Mitglieder f&uuml;r die HAZ-Weihnachtshilfe bei Rundg&auml;ngen durch das Areal gesammelt.
URL:https://www.weihnachtshilfe.de/event/zukunftswerkstatt-sammelt-beim-tag-der-offenen-tuer/
CATEGORIES:Termine
ATTACH;FMTTYPE=image/jpeg:https://www.weihnachtshilfe.de/wp-content/uploads/2016/12/IZ2.jpg
END:VEVENT
BEGIN:VEVENT
DTSTART;TZID=Europe/Helsinki:20171212T173000
DTEND;TZID=Europe/Helsinki:20171212T193000
DTSTAMP:20260424T191518
CREATED:20171208T121116Z
LAST-MODIFIED:20171208T121149Z
UID:2400-1513099800-1513107000@www.weihnachtshilfe.de
SUMMARY:Musikschule l&auml;dt zum Selber-Singen
DESCRIPTION:Die Musikschulen engagieren sich auch in diesem Jahr f&uuml;r die HAZ-Weihnachtshilfe. Zum Selber-Mitsingen wird die Veranstaltung &bdquo;Klingender Advent&ldquo; mit dem Kinderchor Linden und der Orchesterwerkstatt am Dienstag\, 12. Dezember\, um 17.30 Uhr im Freizeitheim Linden empfohlen.
URL:https://www.weihnachtshilfe.de/event/2400/
CATEGORIES:Termine
ATTACH;FMTTYPE=image/jpeg:https://www.weihnachtshilfe.de/wp-content/uploads/2016/12/Region-1.jpg
END:VEVENT
BEGIN:VEVENT
DTSTART;TZID=Europe/Helsinki:20171213T180000
DTEND;TZID=Europe/Helsinki:20171213T203000
DTSTAMP:20260424T191518
CREATED:20171208T121823Z
LAST-MODIFIED:20171208T121824Z
UID:2403-1513188000-1513197000@www.weihnachtshilfe.de
SUMMARY:Ensembles der Musikschule treten in Ricklingen auf
DESCRIPTION:Am Mittwoch\, 13. Dezember\, treten um 18 und 19.30 Uhr im Stadtteilzentrum Ricklingen Ensembles der Musikschule Hannover auf und gestalten einen Konzertabend.&nbsp;Neu dabei ist die &bdquo;Profilgruppe Musik&ldquo;\, ein Kooperationsprojekt der Musikschule mit der Grundschule Wilhelm-Busch aus Ricklingen. Um Spenden wird gebeten.
URL:https://www.weihnachtshilfe.de/event/ensembles-der-musikschule-treten-in-ricklingen-auf/
CATEGORIES:Termine
ATTACH;FMTTYPE=image/jpeg:https://www.weihnachtshilfe.de/wp-content/uploads/2016/12/Musikschule-5.jpg
END:VEVENT
BEGIN:VEVENT
DTSTART;TZID=Europe/Helsinki:20171216T100000
DTEND;TZID=Europe/Helsinki:20171216T140000
DTSTAMP:20260424T191518
CREATED:20171215T115358Z
LAST-MODIFIED:20171215T115359Z
UID:2464-1513418400-1513432800@www.weihnachtshilfe.de
SUMMARY:Aktien und Gl&uuml;hwein in der Gesch&auml;ftsstelle
DESCRIPTION:Eine Aktie der &Uuml;stra von 1921 hilft bei der Spendensammlung. \nDie HAZ l&auml;dt am Sonnabend von 10 bis 14 Uhr zu einem Weihnachtsmarkt in die Gesch&auml;ftsstelle Lange Laube ein. Dort verkauft Sammler&nbsp;J&ouml;rg Zehrfeld um 10.30 Uhr historische &Uuml;stra-Aktien. Die Einnahmen aus Gl&uuml;hwein\, Keksen und Aktien sind f&uuml;r die Spendensammlung bestimmt.
URL:https://www.weihnachtshilfe.de/event/aktien-und-gluehwein-in-der-geschaeftsstelle/
CATEGORIES:Termine
END:VEVENT
BEGIN:VEVENT
DTSTART;TZID=Europe/Helsinki:20171216T150000
DTEND;TZID=Europe/Helsinki:20171216T170000
DTSTAMP:20260424T191518
CREATED:20171208T120915Z
LAST-MODIFIED:20171208T120915Z
UID:2398-1513436400-1513443600@www.weihnachtshilfe.de
SUMMARY:Festliches zum Advent mit der Musikschule Hannover
DESCRIPTION:Die Musikschule engagiert sich auch in diesem Jahr.&nbsp;Die Sch&uuml;ler laden herzlich zum zentralen Adventskonzert am Sonnabend\, 16. Dezember\, in die Lister Matth&auml;uskirche an der W&ouml;hlerstra&szlig;e ein. Um 15 Uhr gehts los. Um Spenden wird gebeten.
URL:https://www.weihnachtshilfe.de/event/festliches-zum-advent-mit-der-musikschule-hannover/
CATEGORIES:Termine
ATTACH;FMTTYPE=image/jpeg:https://www.weihnachtshilfe.de/wp-content/uploads/2016/12/Musikschule-2.jpg
END:VEVENT
BEGIN:VEVENT
DTSTART;TZID=Europe/Helsinki:20171217T190000
DTEND;TZID=Europe/Helsinki:20171217T210000
DTSTAMP:20260424T191518
CREATED:20171204T133054Z
LAST-MODIFIED:20171204T133055Z
UID:2343-1513537200-1513544400@www.weihnachtshilfe.de
SUMMARY:Feuerwehr Hannover l&auml;dt zum traditionellen Weihnachtskonzert
DESCRIPTION:Der Auftritt des&nbsp; sinfonische Blasorchester der Feuerwehr Hannover\, Opus 112\, geh&ouml;rt zum Weihnachtsmarkt wie gebratene Mandeln oder der Rundgang des Weihnachtsmanns. Das Benefiz-Konzert in der Marktkirche l&auml;uft in diesem Jahr am 17. Dezember um 19 Uhr. Es wird erneut f&uuml;r die HAZ-Weihnachtshilfe gesammelt.
URL:https://www.weihnachtshilfe.de/event/feuerwehr-hannover-laedt-zum-traditionellen-weihnachtskonzert/
CATEGORIES:Termine
ATTACH;FMTTYPE=image/jpeg:https://www.weihnachtshilfe.de/wp-content/uploads/2016/11/opus-112.jpeg
END:VEVENT
BEGIN:VEVENT
DTSTART;TZID=Europe/Helsinki:20171218T170000
DTEND;TZID=Europe/Helsinki:20171222T200000
DTSTAMP:20260424T191518
CREATED:20171204T134300Z
LAST-MODIFIED:20171204T134301Z
UID:2347-1513616400-1513972800@www.weihnachtshilfe.de
SUMMARY:Die Engel sammeln auf dem Weihnachtsmarkt
DESCRIPTION:In der letzten Woche des Weihnachtsmarkts in der Altstadt in Hannover treten die K&uuml;nstler f&uuml;r die HAZ-Weihnachtshilfe auf. Dazu sammeln erneut die blauen Weihnachtsengel der Spendensammlung und bitten um kleine Beitr&auml;ge. Zu den musikalischen H&ouml;hepunkten geh&ouml;rten die Auftritte des Rats der Stadt und der Mitarbeiter der Region Hannover. Der Eintritt zum Programm auf dem Weihnachtsmarkt ist nat&uuml;rlich kostenlos. \nDas Programm: \nMontag\, 18. Dezember:\n17 Uhr: Klirr Deluxe: Weihnachtsakrobatik\n18.30 Uhr: Le Canard Noir: Eing&auml;nge Popmusik \nDienstag\, 19. Dezember:\n17 Uhr: Mitarbeiter der Region Hannover und Mitglieder der Regionsversammlung singen Weihnachtslieder\n18.30 Uhr: It&rsquo;s M.E.: Musiklegende aus Hannover verbindet Rockkl&auml;nge mit weihnachtlichem Flair \nMittwoch\, 20. Dezember:\n17 Uhr: M. Wesslowski: Lieder der zwanziger und drei&szlig;iger Jahre auf dem E-Piano\n18.30 Uhr: Frisco Five: Blues mit New Orleanse-Note \nDonnerstag\, 21. Dezember:\n17 Uhr: Santa Claus Jazz Trio: Jazzkl&auml;nge treffen auf weihnachtliche Arrangements\n18 Uhr: Rat der Stadt: Die Gesangseinlage der Stadt f&uuml;r die Weihnachtshilfe &ndash; samt Jingle Bells\n18.45 Uhr:&nbsp;Santa Claus Jazz Trio: Jazzkl&auml;nge treffen auf weihnachtliche Arrangements \nFreitag\, 22. Dezember:\n17 Uhr:&nbsp;Le Canard Noir: Eing&auml;nge Popmusik\n18.30 Uhr: Mick D. &amp; The Bravehearts: Country trifft Weihnachtskl&auml;nge
URL:https://www.weihnachtshilfe.de/event/die-engel-sammeln-auf-dem-weihnachtsmarkt/
CATEGORIES:Termine
ATTACH;FMTTYPE=image/jpeg:https://www.weihnachtshilfe.de/wp-content/uploads/2016/10/ddsd.jpg
END:VEVENT
BEGIN:VEVENT
DTSTART;TZID=Europe/Helsinki:20171220T193000
DTEND;TZID=Europe/Helsinki:20171220T213000
DTSTAMP:20260424T191518
CREATED:20171204T133305Z
LAST-MODIFIED:20171204T133306Z
UID:2345-1513798200-1513805400@www.weihnachtshilfe.de
SUMMARY:Benefiz-Konzert in der Musikhochschule
DESCRIPTION:Der Auftritt des Ensemble il gioco col suono in der Musikhochschule geh&ouml;rt zu den gro&szlig;en Konzerten der Weihnachtshilfe-Saison. Erneut kommen die Musiker am 20. Dezember um 19.30 Uhr zusammen und rufen auf\, f&uuml;r Menschen in Not vor Ort zu sammeln. Das Konzert l&auml;uft in der Hochschule f&uuml;r Musik.
URL:https://www.weihnachtshilfe.de/event/benefiz-konzert-in-der-musikhochschule/
CATEGORIES:Termine
ATTACH;FMTTYPE=image/jpeg:https://www.weihnachtshilfe.de/wp-content/uploads/2016/12/hochschule.jpeg
END:VEVENT
BEGIN:VEVENT
DTSTART;TZID=Europe/Helsinki:20171221T170000
DTEND;TZID=Europe/Helsinki:20171221T190000
DTSTAMP:20260424T191518
CREATED:20171215T114450Z
LAST-MODIFIED:20171215T114450Z
UID:2462-1513875600-1513882800@www.weihnachtshilfe.de
SUMMARY:Adventslieder und Br&auml;uche aus aller Welt
DESCRIPTION:Zu einer musikalischen Entdeckungsreise &bdquo;Adventslieder und Br&auml;uche aus aller Welt&ldquo; l&auml;dt die Musikschule der Landeshauptstadt Hannover f&uuml;r Donnerstag\, 21. Dezember\, 17 Uhr\, in den Kulturtreff Hainholz\, Voltmerstra&szlig;e 36\, ein. Der Kinderchor Hainholz der Musikschule der Landeshauptstadt Hannover unter der Leitung von Martina Wagner\, die Musikkinder der AWO-Kita Hainholz und die Instrumentalsch&uuml;lerInnen der Musikschule musizieren gemeinsam und freuen sich\, allein und gemeinsam mit ihrem Publikum zu musizieren. Erklingen werden neben dem Chorgesang auch S&auml;ngersolisten und Gitarren\, Keyboards und Klavier. Der Eintritt ist frei! Um Spenden f&uuml;r die HAZ-Weihnachtshilfe wird gebeten.&nbsp;
URL:https://www.weihnachtshilfe.de/event/adventslieder-und-braeuche-aus-aller-welt/
CATEGORIES:Termine
ATTACH;FMTTYPE=image/jpeg:https://www.weihnachtshilfe.de/wp-content/uploads/2014/12/WH-Musikschule.jpg
END:VEVENT
END:VCALENDAR