BEGIN:VCALENDAR
VERSION:2.0
PRODID:-//HAZ Weihnachtshilfe - ECPv5.3.0//NONSGML v1.0//EN
CALSCALE:GREGORIAN
METHOD:PUBLISH
X-WR-CALNAME:HAZ Weihnachtshilfe
X-ORIGINAL-URL:https://www.weihnachtshilfe.de
X-WR-CALDESC:Veranstaltungen f&uuml;r HAZ Weihnachtshilfe
BEGIN:VTIMEZONE
TZID:Europe/Helsinki
BEGIN:DAYLIGHT
TZOFFSETFROM:+0200
TZOFFSETTO:+0300
TZNAME:EEST
DTSTART:20180325T010000
END:DAYLIGHT
BEGIN:STANDARD
TZOFFSETFROM:+0300
TZOFFSETTO:+0200
TZNAME:EET
DTSTART:20181028T010000
END:STANDARD
END:VTIMEZONE
BEGIN:VEVENT
DTSTART;TZID=Europe/Helsinki:20180102T190000
DTEND;TZID=Europe/Helsinki:20180102T220000
DTSTAMP:20260424T171517
CREATED:20171204T134520Z
LAST-MODIFIED:20171204T134521Z
UID:2349-1514919600-1514930400@www.weihnachtshilfe.de
SUMMARY:Ernst M&uuml;ller gibt wieder ein Neujahrskonzert
DESCRIPTION:Das Konzert ist Teil der HAZ-Weihnachtshilfe\, mit dem Erl&ouml;s werden also soziale Zwecke unterst&uuml;tzt. Zudem wird es der kr&ouml;nende Abschluss sein f&uuml;r Ernst&nbsp;M&uuml;ller\,&nbsp;das Jubil&auml;um &bdquo;50 Jahre Hausorchester SKH des Prinzen von Hannover&ldquo; zu begehen\, welches das Orchester mit einem viel beachteten Galakonzert auf Schloss Marienburg im August gefeiert hat. \nM&uuml;ller&nbsp;verspricht auch dieses Mal wieder ein buntes\, unterhaltsames Programm\, gepaart mit nieders&auml;chsischer Tradition. Abgerundet wird das Konzert durch die Mitwirkung des Akkordeon Clubs Langenhagen 74 unter der Leitung von Nemanja Lukic. Ebenfalls mit von der Partie ist Kammers&auml;nger Hans-Dieter Bader\, der mit seiner Stimme dem Konzert einen weiteren H&ouml;hepunkt und eine einzigartige Klasse verleiht. \nDer Vorverkauf hat bereits begonnen. Karten sind ab 15 Euro zuz&uuml;glich Vorverkaufsgeb&uuml;hren im Vorverkauf bei allen Gesch&auml;ftsstellen von HAZ und NP\, im Laporte Kartenshop sowie in allen bekannten Vorverkaufsstellen und im Internet erh&auml;ltlich.
URL:https://www.weihnachtshilfe.de/event/ernst-mueller-gibt-wieder-ein-neujahrskonzert/
CATEGORIES:Termine
ATTACH;FMTTYPE=image/jpeg:https://www.weihnachtshilfe.de/wp-content/uploads/2017/01/Ernst-M&uuml;ller-1.jpg
END:VEVENT
END:VCALENDAR