BEGIN:VCALENDAR
VERSION:2.0
PRODID:-//HAZ Weihnachtshilfe - ECPv5.3.0//NONSGML v1.0//EN
CALSCALE:GREGORIAN
METHOD:PUBLISH
X-WR-CALNAME:HAZ Weihnachtshilfe
X-ORIGINAL-URL:https://www.weihnachtshilfe.de
X-WR-CALDESC:Veranstaltungen f&uuml;r HAZ Weihnachtshilfe
BEGIN:VTIMEZONE
TZID:Europe/Helsinki
BEGIN:DAYLIGHT
TZOFFSETFROM:+0200
TZOFFSETTO:+0300
TZNAME:EEST
DTSTART:20180325T010000
END:DAYLIGHT
BEGIN:STANDARD
TZOFFSETFROM:+0300
TZOFFSETTO:+0200
TZNAME:EET
DTSTART:20181028T010000
END:STANDARD
END:VTIMEZONE
BEGIN:VEVENT
DTSTART;TZID=Europe/Helsinki:20181114T173000
DTEND;TZID=Europe/Helsinki:20181118T230000
DTSTAMP:20260424T003515
CREATED:20181017T103717Z
LAST-MODIFIED:20181017T103718Z
UID:2599-1542216600-1542582000@www.weihnachtshilfe.de
SUMMARY:Hannover leuchtet f&uuml;r den guten Zweck
DESCRIPTION:Vom 14. bis zum 18. November laufen in Hannover die ersten Lichtkunsttage mit dem Titel &bdquo;Hannover leuchtet&ldquo;.&nbsp;Nach den ersten Programmpr&auml;sentationen des Organisationsteam um Felix Reinhold und der Firma Allstars Eventservice stehen nun die acht Geb&auml;ude fest\, die w&auml;hrend des Festivals jeweils von 17.30 bis 23 Uhr illuminiert werden sollen. Dabei sind die Aegidienkirche\, der NDR-Sendesaal\, die HDI-Arena\, das Landesmuseum\, die Basilika St. Clemens\, die Kr&ouml;pcke-Uhr\, das Opernhaus und die Marktkirche. Dazu pr&auml;sentieren Lichtk&uuml;nstler wie Franz Betz Lichtideen &ndash; von der Lichtdusche &uuml;ber Lichttouren auf dem Segway bis zum Laserlicht-Faden\, der den klassischen Roten Faden f&uuml;r Touristen in&nbsp;Hannover&nbsp;erg&auml;nzt. &bdquo;Wir sind von der bisherigen Resonanz &uuml;berw&auml;ltigt. Wir wollen Licht in die dunkle Jahreszeit bringen und unsere Stadt zu einem strahlenden Ort in Deutschland machen&ldquo;\, sagt Organisator Reinhold. \nZum Zentrum der Feierlichkeiten wird w&auml;hrend des Festivals der Opernplatz. Dort laden sechs K&ouml;che wie Ekkehard Reimann (&bdquo;Reimanns Eck&ldquo;)\, Tony Hohlfeld (&bdquo;Jante&ldquo;) und Benjamin Meusel (&bdquo;Die Insel&ldquo;) zu einem Sechs-G&auml;nge-Men&uuml; ein. Die G&auml;ste k&ouml;nnen das Lichtfestival in einem 30 Meter langen und zehn Meter breiten Zelt verfolgen\, das auf der L&auml;ngsseite zur Oper verglast und dessen Dach transparent sein wird. Karten gibt es unter www.hannover-leuchtet.com f&uuml;r 248 Euro. Die Einnahmen decken die Kosten f&uuml;r das Lichtfestival. Die Organisatoren sammeln zudem &uuml;ber den Verkauf von Sponsorenpaketen f&uuml;r die HAZ-Weihnachtshilfe&nbsp;&ndash; die Spendensammlung f&uuml;r Menschen in Not vor Ort. \nMehr zum Festival erfahren Interessierte unter dem Link.
URL:https://www.weihnachtshilfe.de/event/hannover-leuchtet-fuer-den-guten-zweck/
CATEGORIES:Termine
ATTACH;FMTTYPE=image/jpeg:https://www.weihnachtshilfe.de/wp-content/uploads/2018/10/hannover-leuchtet.jpg
END:VEVENT
BEGIN:VEVENT
DTSTART;TZID=Europe/Helsinki:20181117T100000
DTEND;TZID=Europe/Helsinki:20181117T170000
DTSTAMP:20260424T003515
CREATED:20181017T104458Z
LAST-MODIFIED:20181017T104458Z
UID:2602-1542448800-1542474000@www.weihnachtshilfe.de
SUMMARY:Die Lions laden zum Benefiz-Essen auf den Kr&ouml;pcke
DESCRIPTION:Die ersten Jahre hatten etwas von einer Laborsituation. Schnell waren sich R&uuml;diger Ahlers und seine Mitstreiter vom&nbsp;Lions-Club Hermes-Calenberg dar&uuml;ber einig\, dass sie mit einer Benefizaktion etwas Gutes in der Weihnachtszeit tun wollten. Also probierten sie sich im Suppenverkauf auf dem D&ouml;hrener Weihnachtsmarkt\, hatten aber nicht mit den eher verhaltenen Reaktionen der anderen gastronomischen H&auml;ndler gerechnet. Also zogen sie um auf den Kr&ouml;pcke &ndash; und versch&auml;tzten sich. &bdquo;Wir hatten viel zu wenig Suppe&ldquo;\, erinnert sich Ahlers und bl&auml;ttert in alten Fotos vom Kr&ouml;pcke. &bdquo;Die 400 Liter Suppe waren schnell aus\, wir mussten neu kalkulieren.&ldquo;&nbsp;Damals wurde der Grundstein f&uuml;r die &auml;lteste Benefizaktion zugunsten der HAZ-Weihnachtshilfe&nbsp;gelegt. &bdquo;Wir sp&uuml;rten eine regelrechte Empathiewelle&ldquo;\, sagt Ahlers. &bdquo;Und je k&auml;lter es in den Folgejahren wurde\, umso mehr r&uuml;ckten wir zusammen.&ldquo; \nAm Sonnabend\, 17. November\,&nbsp; laden die&nbsp;Lions Hermes-Calenberg nun zum bereits 21. Suppenverkauf direkt auf dem Kr&ouml;pcke. &bdquo;Gern trifft man sich auf dem Kr&ouml;pcke zu einem Gespr&auml;ch. Wer isst nicht gern einmal selbstgebackenen Kuchen\, Erbsensuppe oder Bratwurst in der Stadt? Dazu laden wir alle B&uuml;rger herzlich ein&ldquo;\, schreibt R&uuml;diger Ahlers in einer Einladung. Die Einnahmen sind als Spende f&uuml;r die HAZ-Weihnachtshilfe gedacht.
URL:https://www.weihnachtshilfe.de/event/die-lions-laden-zum-benefiz-essen-auf-den-kroepcke/
CATEGORIES:Termine
ATTACH;FMTTYPE=image/jpeg:https://www.weihnachtshilfe.de/wp-content/uploads/2017/11/Weihnachtshilfe-0001.jpg
END:VEVENT
BEGIN:VEVENT
DTSTART;TZID=Europe/Helsinki:20181117T180000
DTEND;TZID=Europe/Helsinki:20181117T220000
DTSTAMP:20260424T003515
CREATED:20181017T105635Z
LAST-MODIFIED:20181017T105636Z
UID:2604-1542477600-1542492000@www.weihnachtshilfe.de
SUMMARY:B&auml;cker singen f&uuml;r die Spendensammlung
DESCRIPTION:In diesem Jahr feiert der M&auml;nnerchor der&nbsp;B&auml;cker-Innung&nbsp;Hannover sein 140-j&auml;hriges Bestehen und plant dazu ein umfassendes Festprogramm. Es gibt ein Festbrot mit dem Titel 1878. Und das passende Bier\, das im Brauhaus Ernst August gebraut wurde.&nbsp;Die&nbsp;B&auml;cker&nbsp;um den Pr&auml;sidenten des&nbsp;B&auml;cker-S&auml;ngerbundes\,&nbsp;Harald Luther\, und der Obermeister der&nbsp;B&auml;cker-Innung&nbsp;Hannover\, Cord Buck\, bedankten sich f&uuml;r die Unterst&uuml;tzung der Brauer und laden zu diversen Benefiz-Konzerten wie die Er&ouml;ffnung des Weihnachtsmarktes in der Altstadt am 28. November. Wichtig ist vor allem der Auftritt am 17. November im Freizeitheim&nbsp;Ricklingen\, bei dem f&uuml;r die HAZ-Weihnachtshilfe gesammelt wird &ndash; die Spendensammlung f&uuml;r Menschen in Not vor Ort. &bdquo;Im Sinne unserer Altvorderen m&ouml;chten wir mit einer Jubil&auml;umsreihe feiern\, denn Backen und Singen ist Herzenssache\, es geh&ouml;rt ganz fest zusammen&ldquo;\, hei&szlig;t es im Programm zu den Feierlichkeiten. \nDie genaue Startzeit f&uuml;r das Konzert im Freizeitheim Ricklingen folgt.
URL:https://www.weihnachtshilfe.de/event/baecker-singen-fuer-die-spendensammlung/
LOCATION:Freizeitheim Ricklingen\, Hannover
CATEGORIES:Termine
ATTACH;FMTTYPE=image/jpeg:https://www.weihnachtshilfe.de/wp-content/uploads/2018/10/B&auml;cker.jpg
END:VEVENT
BEGIN:VEVENT
DTSTART;TZID=Europe/Helsinki:20181122T193000
DTEND;TZID=Europe/Helsinki:20181122T213000
DTSTAMP:20260424T003515
CREATED:20181017T110941Z
LAST-MODIFIED:20181017T111033Z
UID:2607-1542915000-1542922200@www.weihnachtshilfe.de
SUMMARY:Elke Heidenreich liest f&uuml;r die Weihnachtshilfe
DESCRIPTION:Warum ist es am Rhein so sch&ouml;n? Das fragen sich Elke Heidenreich und Tom Krausz und brechen gemeinsam zu einer Reise auf\, ausgestattet mit Literatur &uuml;ber den Rhein\, mit Notizb&uuml;chern und einem Fotoapparat. Beginnend bei den beiden Quellen des Rheins in den Alpen\, gelangen sie wandernd\, mit Auto und per Schiff auf eine der verkehrsreichsten Wasserstra&szlig;en der Welt: &bdquo;Wir wollten selber sehen\, riechen\, f&uuml;hlen\, h&ouml;ren\, nachdenken\, erfahren.&ldquo; Die Antworten\, die sie finden\, sind Geschichten\, Ahnungen und sehr pers&ouml;nliche Eindr&uuml;cke\, manchmal sch&ouml;n\, manchmal unbequem und immer faszinierend. Mit ihren Betrachtungen machen Elke Heidenreich und Tom Krausz die Geschichte des mehr als 1200 Kilometer langen und sechs L&auml;nder durchflie&szlig;enden Stroms lebendig und decken die zahlreichen Facetten seiner Gegenwart auf. \nDie Betrachtungen stellt Elke Heidenreich nun auch in Hannover vor. Am 22. November ist sie zu Gast im Pelikan TintenTurm am Pelikanplatz 21.&nbsp;Sie wird am Klavier begleitet von Ihrem Partner Marc Aurel Floros. Er spielt Musik die mit dem Rhein zu tun hat. Die Veranstaltung ist eine Kooperation der&nbsp;Buchhandlung Leuenhagen &amp; Paris\, dem Klavierhaus D&ouml;ll\, das kostenlos ein Klavier zur Verf&uuml;gung stellt\, und der Spedition Hoffmann\, die das Klavier kostenlos transportiert. Leider ist die Veranstaltung schon ausverkauft. Die Einnahmen sind f&uuml;r die Weihnachtshilfe bestimmt. \nInformationen zum Abend gibt es unter diesem Link.
URL:https://www.weihnachtshilfe.de/event/elke-heidenreich-liest-fuer-die-weihnachtshilfe/
LOCATION:Pelikan Tintenturm\, Pelikanplatz 21\, Hannover\, Deutschland
CATEGORIES:Termine
ATTACH;FMTTYPE=image/jpeg:https://www.weihnachtshilfe.de/wp-content/uploads/2018/10/Elke-Heidenreich.jpg
END:VEVENT
BEGIN:VEVENT
DTSTART;TZID=Europe/Helsinki:20181124T100000
DTEND;TZID=Europe/Helsinki:20181125T180000
DTSTAMP:20260424T003515
CREATED:20181017T102946Z
LAST-MODIFIED:20181017T102947Z
UID:2596-1543053600-1543168800@www.weihnachtshilfe.de
SUMMARY:Im Atelier two lives gibt es Wunschzettel
DESCRIPTION:Die K&uuml;nstler-Werkstatt Atelier&nbsp;two&nbsp;lives&nbsp;Einklang in der S&uuml;dstadt unterst&uuml;tzt auch in diesem Jahr die HAZ-Weihnachtshilfe. F&uuml;r die Spendenaktion f&uuml;r Menschen in Not vor Ort haben sich die Atelier-Betreiber und K&uuml;nstler Silke Klein und Jan Larkins die Aktion &bdquo;Angezettelt&ldquo; ausgedacht. Von September an k&ouml;nnen kreative B&uuml;rger an der Schl&auml;gerstra&szlig;e 29 f&uuml;r sechs Euro Ton-Materialsets erwerben. Diese Sets k&ouml;nnen f&uuml;r einen besonderen Wunschzettel genutzt werden. Man kann also W&uuml;nsche wie Abenteuer\, Hoffnung oder Zeit kunstvoll gestalten. Mehrere Wunschzettel k&ouml;nnen zu einem Mobile modelliert werden. Die gestalteten Sets\, die bis zum 2. November im Werkstatt Atelier abgegeben werden\, erhalten die im Preis bereits enthaltenen Br&auml;nde\, sowie eine Oxideinf&auml;rbung. Am 24. und 25. November k&ouml;nnen die fertigen gebrannten Exponate abgeholt und veredelt werden. Der Gewinn aus der Gestaltungsaktion wird der HAZ-Weihnachtshilfe gespendet. jan \nWeitere Informationen zum Gestaltungswettbewerb finden Interessierte unter diesem Link.
URL:https://www.weihnachtshilfe.de/event/im-atelier-two-lives-gibt-es-wunschzettel/
CATEGORIES:Termine
ATTACH;FMTTYPE=image/jpeg:https://www.weihnachtshilfe.de/wp-content/uploads/2018/10/two-life.jpg
END:VEVENT
BEGIN:VEVENT
DTSTART;TZID=Europe/Helsinki:20181126T100000
DTEND;TZID=Europe/Helsinki:20181201T190000
DTSTAMP:20260424T003515
CREATED:20181017T130818Z
LAST-MODIFIED:20181017T130819Z
UID:2635-1543226400-1543690800@www.weihnachtshilfe.de
SUMMARY:Hauschild-Kalender hilft der Spendensammlung
DESCRIPTION:Der Fotograf Wilhelm Hauschild hielt mit seinen Bildern sehr oft eindringliche Motive der hannoverschen Zeitgeschichte fest. Die Buchhandlung&nbsp;Leuenhagen&nbsp;&amp;&nbsp;Paris&nbsp;an der Lister Meile stellt dazu j&auml;hrlich einen Hauschild-Kalender zusammen. Die Ausgabe f&uuml;r das Jahr 2019 enth&auml;lt erneut viele unver&ouml;ffentlichte Aufnahmen &ndash; die nun auch Menschen in Not helfen. F&uuml;r alle Kalender\, die in der Aktionswoche vom 26. November bis 1. Dezember verkauft werden\, spendet Inhaber Dirk Eberitzsch 5 Euro an die HAZ-Weihnachtshilfe. Interessenten\, die jetzt schon den neuen Hauschild-Kalender bestellen m&ouml;chten\, k&ouml;nnen diesen Link nutzen: \nhttps://leuenhagen-paris.buchhandlung.de/shop/article/37488087/hannover_2019.html&nbsp;
URL:https://www.weihnachtshilfe.de/event/hauschild-kalender-hilft-der-spendensammlung/
LOCATION:Leuenhagen &amp; Paris
CATEGORIES:Termine
ATTACH;FMTTYPE=image/jpeg:https://www.weihnachtshilfe.de/wp-content/uploads/2018/10/hausschild.jpg
END:VEVENT
BEGIN:VEVENT
DTSTART;TZID=Europe/Helsinki:20181128T160000
DTEND;TZID=Europe/Helsinki:20181128T200000
DTSTAMP:20260424T003515
CREATED:20181017T112247Z
LAST-MODIFIED:20181017T112248Z
UID:2620-1543420800-1543435200@www.weihnachtshilfe.de
SUMMARY:Weihnachtsmarkt wird er&ouml;ffnet
DESCRIPTION:Am Mittwoch\, 28.November\, wird der traditionelle Weihnachtsmarkt in der Altstadt mit starken Stimmen er&ouml;ffnet. Offiziell bringen Vertreter der Stadt\, der Kirche\, der Ausstellerverb&auml;nde und HAZ-Chefredakteur Hendrik Brandt den gro&szlig;en Weihnachtsbaum direkt an der Marktkirche zum Erstrahlen. Doch direkt im Anschluss sind die Besucher selbst gefordert\, ihren Weihnachtsmarkt zu er&ouml;ffnen. Gemeinsam mit dem M&auml;nnerchor der B&auml;cker-Innung Hannover werden ab 16 Uhr auf und vor der B&uuml;hne Weihnachtslieder gesungen. Mitarbeiter der HAZ verteilen dazu stimmungsvolle Windlichter und Textbl&auml;tter.&nbsp;Dazu sammeln die sogenannten HAZ-Engel auch in diesem Jahr f&uuml;r die HAZ-Weihnachtshilfe\, die seit 1975 Menschen in Not in der Region Hannover unterst&uuml;tzt.
URL:https://www.weihnachtshilfe.de/event/weihnachtsmarkt-wird-eroeffnet-2/
LOCATION:Marktpklatz
CATEGORIES:Termine
ATTACH;FMTTYPE=image/jpeg:https://www.weihnachtshilfe.de/wp-content/uploads/2017/12/Weihnachtsmarkt0009_20171129181440.jpg
END:VEVENT
BEGIN:VEVENT
DTSTART;TZID=Europe/Helsinki:20181201T083000
DTEND;TZID=Europe/Helsinki:20181201T180000
DTSTAMP:20260424T003515
CREATED:20181126T143853Z
LAST-MODIFIED:20181126T143853Z
UID:2729-1543653000-1543687200@www.weihnachtshilfe.de
SUMMARY:Benefiz-Radtour nach Himmelpforten
DESCRIPTION:Am Sonnabend\, 1. Dezember\, startet eine ganz besondere Radtour von Hannover aus. Mitglieder des Hannoverschen Radsport Club machen sich bereits zum vierten Mal auf die &bdquo;Gegen die K&auml;lte&ldquo;- Tour. Sie wollen am Sonnabend von Hannover aus&nbsp;in das 175 Kilometer entfernte Christkinddorf Himmelpforten. Dabei sammeln sie Spenden und werben f&uuml;r die HAZ-Weihnachtshilfe.&nbsp;Treffpunkt ist um 8.30 Uhr auf dem Trammplatz vor dem Neuen Rathaus. B&uuml;rgermeister Thomas Hermann gibt das Startsignal. Die Sportler haben zudem angek&uuml;ndigt\, erneut Post f&uuml;r den Weihnachtsmann mitzunehmen.
URL:https://www.weihnachtshilfe.de/event/benefiz-radtour-nach-himmelpforten/
CATEGORIES:Termine
ATTACH;FMTTYPE=image/jpeg:https://www.weihnachtshilfe.de/wp-content/uploads/2018/11/Radclub.jpg
END:VEVENT
BEGIN:VEVENT
DTSTART;TZID=Europe/Helsinki:20181201T110000
DTEND;TZID=Europe/Helsinki:20181201T200000
DTSTAMP:20260424T003515
CREATED:20181126T142855Z
LAST-MODIFIED:20181126T142855Z
UID:2724-1543662000-1543694400@www.weihnachtshilfe.de
SUMMARY:Sammlung beim Heimspiel von Hannover United
DESCRIPTION:Der Rollstuhlbasketballverein&nbsp;Hannover United wird am Sonnabend\,1. Dezember\, von 11 bis 20 Uhr im Rahmen der Heimspiele von Hannover United 3 jeweils um 11 und etwa 15 Uhr und des Bundesligaspiels von Hannover United 1 um 18 Uhr einen Flohmarkt durchf&uuml;hren. Dort gibt es Vereinsausr&uuml;stung\, signierte Basketb&auml;lle und Fanschals zu kaufen. Die Einnahmen unterst&uuml;tzen die Spendensammlung der HAZ-Weihnachtshilfe. Die Spiele laufen in der&nbsp;Sporthalle der IGS St&ouml;cken an der&nbsp;Eichsfelder Stra&szlig;e 38.
URL:https://www.weihnachtshilfe.de/event/sammlung-beim-heimspiel-von-hannover-united/
CATEGORIES:Termine
ATTACH;FMTTYPE=image/jpeg:https://www.weihnachtshilfe.de/wp-content/uploads/2018/11/Hannover-united.jpg
END:VEVENT
END:VCALENDAR