BEGIN:VCALENDAR
VERSION:2.0
PRODID:-//HAZ Weihnachtshilfe - ECPv5.3.0//NONSGML v1.0//EN
CALSCALE:GREGORIAN
METHOD:PUBLISH
X-WR-CALNAME:HAZ Weihnachtshilfe
X-ORIGINAL-URL:https://www.weihnachtshilfe.de
X-WR-CALDESC:Veranstaltungen f&uuml;r HAZ Weihnachtshilfe
BEGIN:VTIMEZONE
TZID:Europe/Helsinki
BEGIN:DAYLIGHT
TZOFFSETFROM:+0200
TZOFFSETTO:+0300
TZNAME:EEST
DTSTART:20180325T010000
END:DAYLIGHT
BEGIN:STANDARD
TZOFFSETFROM:+0300
TZOFFSETTO:+0200
TZNAME:EET
DTSTART:20181028T010000
END:STANDARD
END:VTIMEZONE
BEGIN:VEVENT
DTSTART;TZID=Europe/Helsinki:20181126T100000
DTEND;TZID=Europe/Helsinki:20181201T190000
DTSTAMP:20260423T225104
CREATED:20181017T130818Z
LAST-MODIFIED:20181017T130819Z
UID:2635-1543226400-1543690800@www.weihnachtshilfe.de
SUMMARY:Hauschild-Kalender hilft der Spendensammlung
DESCRIPTION:Der Fotograf Wilhelm Hauschild hielt mit seinen Bildern sehr oft eindringliche Motive der hannoverschen Zeitgeschichte fest. Die Buchhandlung&nbsp;Leuenhagen&nbsp;&amp;&nbsp;Paris&nbsp;an der Lister Meile stellt dazu j&auml;hrlich einen Hauschild-Kalender zusammen. Die Ausgabe f&uuml;r das Jahr 2019 enth&auml;lt erneut viele unver&ouml;ffentlichte Aufnahmen &ndash; die nun auch Menschen in Not helfen. F&uuml;r alle Kalender\, die in der Aktionswoche vom 26. November bis 1. Dezember verkauft werden\, spendet Inhaber Dirk Eberitzsch 5 Euro an die HAZ-Weihnachtshilfe. Interessenten\, die jetzt schon den neuen Hauschild-Kalender bestellen m&ouml;chten\, k&ouml;nnen diesen Link nutzen: \nhttps://leuenhagen-paris.buchhandlung.de/shop/article/37488087/hannover_2019.html&nbsp;
URL:https://www.weihnachtshilfe.de/event/hauschild-kalender-hilft-der-spendensammlung/
LOCATION:Leuenhagen &amp; Paris
CATEGORIES:Termine
ATTACH;FMTTYPE=image/jpeg:https://www.weihnachtshilfe.de/wp-content/uploads/2018/10/hausschild.jpg
END:VEVENT
BEGIN:VEVENT
DTSTART;TZID=Europe/Helsinki:20181128T160000
DTEND;TZID=Europe/Helsinki:20181128T200000
DTSTAMP:20260423T225104
CREATED:20181017T112247Z
LAST-MODIFIED:20181017T112248Z
UID:2620-1543420800-1543435200@www.weihnachtshilfe.de
SUMMARY:Weihnachtsmarkt wird er&ouml;ffnet
DESCRIPTION:Am Mittwoch\, 28.November\, wird der traditionelle Weihnachtsmarkt in der Altstadt mit starken Stimmen er&ouml;ffnet. Offiziell bringen Vertreter der Stadt\, der Kirche\, der Ausstellerverb&auml;nde und HAZ-Chefredakteur Hendrik Brandt den gro&szlig;en Weihnachtsbaum direkt an der Marktkirche zum Erstrahlen. Doch direkt im Anschluss sind die Besucher selbst gefordert\, ihren Weihnachtsmarkt zu er&ouml;ffnen. Gemeinsam mit dem M&auml;nnerchor der B&auml;cker-Innung Hannover werden ab 16 Uhr auf und vor der B&uuml;hne Weihnachtslieder gesungen. Mitarbeiter der HAZ verteilen dazu stimmungsvolle Windlichter und Textbl&auml;tter.&nbsp;Dazu sammeln die sogenannten HAZ-Engel auch in diesem Jahr f&uuml;r die HAZ-Weihnachtshilfe\, die seit 1975 Menschen in Not in der Region Hannover unterst&uuml;tzt.
URL:https://www.weihnachtshilfe.de/event/weihnachtsmarkt-wird-eroeffnet-2/
LOCATION:Marktpklatz
CATEGORIES:Termine
ATTACH;FMTTYPE=image/jpeg:https://www.weihnachtshilfe.de/wp-content/uploads/2017/12/Weihnachtsmarkt0009_20171129181440.jpg
END:VEVENT
BEGIN:VEVENT
DTSTART;TZID=Europe/Helsinki:20181201T083000
DTEND;TZID=Europe/Helsinki:20181201T180000
DTSTAMP:20260423T225104
CREATED:20181126T143853Z
LAST-MODIFIED:20181126T143853Z
UID:2729-1543653000-1543687200@www.weihnachtshilfe.de
SUMMARY:Benefiz-Radtour nach Himmelpforten
DESCRIPTION:Am Sonnabend\, 1. Dezember\, startet eine ganz besondere Radtour von Hannover aus. Mitglieder des Hannoverschen Radsport Club machen sich bereits zum vierten Mal auf die &bdquo;Gegen die K&auml;lte&ldquo;- Tour. Sie wollen am Sonnabend von Hannover aus&nbsp;in das 175 Kilometer entfernte Christkinddorf Himmelpforten. Dabei sammeln sie Spenden und werben f&uuml;r die HAZ-Weihnachtshilfe.&nbsp;Treffpunkt ist um 8.30 Uhr auf dem Trammplatz vor dem Neuen Rathaus. B&uuml;rgermeister Thomas Hermann gibt das Startsignal. Die Sportler haben zudem angek&uuml;ndigt\, erneut Post f&uuml;r den Weihnachtsmann mitzunehmen.
URL:https://www.weihnachtshilfe.de/event/benefiz-radtour-nach-himmelpforten/
CATEGORIES:Termine
ATTACH;FMTTYPE=image/jpeg:https://www.weihnachtshilfe.de/wp-content/uploads/2018/11/Radclub.jpg
END:VEVENT
BEGIN:VEVENT
DTSTART;TZID=Europe/Helsinki:20181201T110000
DTEND;TZID=Europe/Helsinki:20181201T200000
DTSTAMP:20260423T225104
CREATED:20181126T142855Z
LAST-MODIFIED:20181126T142855Z
UID:2724-1543662000-1543694400@www.weihnachtshilfe.de
SUMMARY:Sammlung beim Heimspiel von Hannover United
DESCRIPTION:Der Rollstuhlbasketballverein&nbsp;Hannover United wird am Sonnabend\,1. Dezember\, von 11 bis 20 Uhr im Rahmen der Heimspiele von Hannover United 3 jeweils um 11 und etwa 15 Uhr und des Bundesligaspiels von Hannover United 1 um 18 Uhr einen Flohmarkt durchf&uuml;hren. Dort gibt es Vereinsausr&uuml;stung\, signierte Basketb&auml;lle und Fanschals zu kaufen. Die Einnahmen unterst&uuml;tzen die Spendensammlung der HAZ-Weihnachtshilfe. Die Spiele laufen in der&nbsp;Sporthalle der IGS St&ouml;cken an der&nbsp;Eichsfelder Stra&szlig;e 38.
URL:https://www.weihnachtshilfe.de/event/sammlung-beim-heimspiel-von-hannover-united/
CATEGORIES:Termine
ATTACH;FMTTYPE=image/jpeg:https://www.weihnachtshilfe.de/wp-content/uploads/2018/11/Hannover-united.jpg
END:VEVENT
BEGIN:VEVENT
DTSTART;TZID=Europe/Helsinki:20181202T100000
DTEND;TZID=Europe/Helsinki:20181202T160000
DTSTAMP:20260423T225104
CREATED:20181017T111837Z
LAST-MODIFIED:20181017T111838Z
UID:2617-1543744800-1543766400@www.weihnachtshilfe.de
SUMMARY:Kraftanstrengung f&uuml;r den guten Zweck
DESCRIPTION:Am 2. Dezember startet der 5. Steelman in Langenhagen. Teilnehmer des Cross-Hindernis-Laufs m&uuml;ssen viel klettern\, durch kalte Gr&auml;ben stapfen und sich gegen Wasserbomben durchsetzen. Dank der Hannoverschen Volksbank und den Veranstaltern von Eichels Event werden f&uuml;r jeden Teilnehmer mit Weihnachtsmannm&uuml;tze 5 Euro an die Weihnachtshilfe gespendet. Los geht&rsquo;s um 10 Uhr. \nWeitere Informationen zum Steelman gibt&rsquo;s unter diesem Link.
URL:https://www.weihnachtshilfe.de/event/kraftanstrengung-fuer-den-guten-zweck-2/
LOCATION:Pferderennbahn Langenhagen
CATEGORIES:Termine
ATTACH;FMTTYPE=image/jpeg:https://www.weihnachtshilfe.de/wp-content/uploads/2016/12/steelman-2.jpg
END:VEVENT
BEGIN:VEVENT
DTSTART;TZID=Europe/Helsinki:20181202T153000
DTEND;TZID=Europe/Helsinki:20181202T180000
DTSTAMP:20260423T225104
CREATED:20181122T165012Z
LAST-MODIFIED:20181122T165052Z
UID:2683-1543764600-1543773600@www.weihnachtshilfe.de
SUMMARY:Kaffeekauskonzert im Caf&eacute; Korthaus
DESCRIPTION:Der Teufelsgeiger Charly Neumann geh&ouml;rt seit Jahren zu den treuen Unterst&uuml;tzern der HAZ-Weihnachtshilfe. Nun l&auml;dt er mit Verst&auml;rkung zum Benefiz-Konzert ins Caf&eacute; Korthaus ein. Gemeinsam mit Jushua Heyck wird am Sonntag\, 2. Dezember\, zum Beispiel &bdquo;Die kleine Nachtmusik&ldquo; von Wolfgang Amadeus Mozart dargeboten. Dazu gibt es Melodien aus der &bdquo;Zauberfl&ouml;te&ldquo; und ungarische Weisen. &bdquo;Viele bekannte Advents-und Weihnachtslieder werden wir f&uuml;r unser HAZ-Publikum zum Mitsingen zu Geh&ouml;r bringen&ldquo;\, sagt Neumann. Das Konzert beginnt um 15.30 Uhr. Der Eintritt ist frei\, um Spenden f&uuml;r die HAZ-Weihnachtshilfe wird gebeten.
URL:https://www.weihnachtshilfe.de/event/kaffeekauskonzert-im-cafe-korthaus/
CATEGORIES:Termine
ATTACH;FMTTYPE=image/jpeg:https://www.weihnachtshilfe.de/wp-content/uploads/2018/11/charly.jpg
END:VEVENT
BEGIN:VEVENT
DTSTART;TZID=Europe/Helsinki:20181203T193000
DTEND;TZID=Europe/Helsinki:20181203T220000
DTSTAMP:20260423T225104
CREATED:20181126T134906Z
LAST-MODIFIED:20181126T134906Z
UID:2722-1543865400-1543874400@www.weihnachtshilfe.de
SUMMARY:MLP Hannover l&auml;dt zum Benefiz-Adventskonzert
DESCRIPTION:Der Finanz- und Verm&ouml;gensberater MLP in Hannover l&auml;dt Kunden und Interessierte am Montag\, 3. Dezember\, zum traditionellen Adventskonzert ein. Dieses Jahr musizieren der Chor und das Sinfonieorchester der Medizinischen Hochschule Hannover unter der Leitung von Eva Filler. Der Eintritt ist frei\, allerdings sammelt MLP Hannover Spenden\, die der HAZ-Weihnachtshilfe und somit bed&uuml;rftigen Menschen in der Region zugutekommen. Die kostenlosen Eintrittskarten sind in der MLP Gesch&auml;ftsstelle Hannover II an der Marienstra&szlig;e 11 zu bekommen. Oder man bucht per Mail an&nbsp;hannover2@mlp.de.&nbsp;&nbsp;Telefonisch k&ouml;nnen sich Interessierte die Karten unter (0511)1 26 19 20 sichern. Los geht&rsquo;s in der&nbsp;Neust&auml;dter Hof- und Stadtkirche St. Johannis\, um 19.30 Uhr.
URL:https://www.weihnachtshilfe.de/event/mlp-hannover-laedt-zum-benefiz-adventskonzert/
CATEGORIES:Termine
ATTACH;FMTTYPE=image/jpeg:https://www.weihnachtshilfe.de/wp-content/uploads/2017/12/mlp-2.jpg
END:VEVENT
BEGIN:VEVENT
DTSTART;TZID=Europe/Helsinki:20181204T180000
DTEND;TZID=Europe/Helsinki:20181204T200000
DTSTAMP:20260423T225104
CREATED:20181126T143225Z
LAST-MODIFIED:20181126T143225Z
UID:2727-1543946400-1543953600@www.weihnachtshilfe.de
SUMMARY:Sammlung bei der Buchvorstellung
DESCRIPTION:In einer gro&szlig;en HAZ-Serie werden die Ereignisse des Jahres&nbsp;1968 beschrieben. Im November erscheint dazu das Buch &bdquo;1968. Als die Revolte nach Hannover kam&ldquo; von&nbsp;Simon&nbsp;Benne&nbsp;und Gunnar Menkens. Der Band (14\,90 Euro) kann im Internet bereits unter shop.haz.de vorbestellt werden. Am 4. Dezember\, 18 Uhr\, stellen die Autoren das Buch im Historischen Museum Hannover vor. Der Eintritt ist frei\, um eine Spende f&uuml;r die HAZ-Weihnachtshilfe wird gebeten. F&uuml;r die Veranstaltung ist eine Anmeldung notwendig. Bitte senden Sie bei Interesse eine E-Mail mit dem Stichwort &bdquo;1968&ldquo; an hannover@haz.de. Sie erhalten rechtzeitig eine Best&auml;tigung.
URL:https://www.weihnachtshilfe.de/event/sammlung-bei-der-buchvorstellung/
CATEGORIES:Termine
ATTACH;FMTTYPE=image/jpeg:https://www.weihnachtshilfe.de/wp-content/uploads/2017/12/Simon-Benne.jpg
END:VEVENT
BEGIN:VEVENT
DTSTART;TZID=Europe/Helsinki:20181206T100000
DTEND;TZID=Europe/Helsinki:20181209T180000
DTSTAMP:20260423T225104
CREATED:20181203T162926Z
LAST-MODIFIED:20181203T162926Z
UID:2769-1544090400-1544378400@www.weihnachtshilfe.de
SUMMARY:Hufschmiede sammeln bei Pferd und Jagd
DESCRIPTION:&#8203;Am Donnerstag beginnt die &bdquo;Pferd und Jagd&ldquo; auf dem Messegel&auml;nde. Die Hufschmiede der Iniative Nordhuf bieten Kindern erneut die Einf&uuml;hrung in die Schmiedekunst &ndash; und bittet die Eltern dabei um Spenden f&uuml;r die HAZ-Weihnachtshilfe. Die Schmiede\, die vor drei Jahren aus Tausenden Hufeisen das Brandenburger Tor nachbauten\,&nbsp;sind in der Halle 26. Die Messe ist bis einschlie&szlig;lich Sonntag von 10 bis 18 Uhr ge&ouml;ffnet.
URL:https://www.weihnachtshilfe.de/event/hufschmiede-sammeln-bei-pferd-und-jagd-2/
CATEGORIES:Termine
ATTACH;FMTTYPE=image/jpeg:https://www.weihnachtshilfe.de/wp-content/uploads/2018/12/161208_Schmiede_Pferd-und-Jagd_003.jpg
END:VEVENT
BEGIN:VEVENT
DTSTART;TZID=Europe/Helsinki:20181206T173000
DTEND;TZID=Europe/Helsinki:20181206T200000
DTSTAMP:20260423T225104
CREATED:20181122T163710Z
LAST-MODIFIED:20181122T165338Z
UID:2681-1544117400-1544126400@www.weihnachtshilfe.de
SUMMARY:Der Nikolaus f&auml;hrt wieder Vespa
DESCRIPTION:Der Vespa Club Hannover l&auml;dt zur Veranstaltung: &bdquo;Der Babbo ist wieder da!&ldquo; Der Babbo ist in diesem Fall der Weihnachtsmann. Denn die Vespa-Fahrer sind als Weihnachtsm&auml;nner\, Elfen und Engel in der hannoverschen Innenstadt unterwegs\, um f&uuml;r den guten Zweck zu sammeln. Unterst&uuml;tzt von der City-Gemeinschaft schm&uuml;cken sie den Kr&ouml;pcke mit ihren Maschinen und bitten um Spenden. Der Nikolaus-Vespa-Flash-Mob beginnt schon um 17.45 Uhr am Georgsplatz. Dann geht&rsquo;s &uuml;ber den Friedrichswall\, das Leibizufer\, Schmiedestra&szlig;e und Osterstra&szlig;e rund um die Oper zum Kr&ouml;pcke. Dort wird dann Zeit f&uuml;r Fotos und Spendensammlung sein. \nMehr Informationen zum Vespa Club finden Interessierte hier:&nbsp;https://www.vespaclub-hannover.de/
URL:https://www.weihnachtshilfe.de/event/der-nikolaus-faehrt-wieder-vespa/
CATEGORIES:Termine
ATTACH;FMTTYPE=image/jpeg:https://www.weihnachtshilfe.de/wp-content/uploads/2017/12/20171206_vespa_016.jpg
END:VEVENT
BEGIN:VEVENT
DTSTART;TZID=Europe/Helsinki:20181208T150000
DTEND;TZID=Europe/Helsinki:20181208T200000
DTSTAMP:20260423T225104
CREATED:20181203T162543Z
LAST-MODIFIED:20181203T162543Z
UID:2766-1544281200-1544299200@www.weihnachtshilfe.de
SUMMARY:Erneut Sammlung bei Hannover United
DESCRIPTION:Der Rollstuhlbasketballverein&nbsp;Hannover United hat am Sonnabend\, 8. Dezember\, das n&auml;chste Heimspiel und l&auml;dt erneut zu einem Flohmarkt ein. Dort gibt es von 15 bis 20 Uhr Vereinsausr&uuml;stung\, signierte Basketb&auml;lle und Fanschals zu kaufen. Die Einnahmen unterst&uuml;tzen die Spendensammlung der HAZ-Weihnachtshilfe. Die Spiele laufen in der&nbsp;Sporthalle der IGS St&ouml;cken an der&nbsp;Eichsfelder Stra&szlig;e 38.
URL:https://www.weihnachtshilfe.de/event/erneut-sammlung-bei-hannover-united/
CATEGORIES:Termine
ATTACH;FMTTYPE=image/jpeg:https://www.weihnachtshilfe.de/wp-content/uploads/2018/12/Basketball-3.jpg
END:VEVENT
BEGIN:VEVENT
DTSTART;TZID=Europe/Helsinki:20181208T200000
DTEND;TZID=Europe/Helsinki:20181208T230000
DTSTAMP:20260423T225104
CREATED:20181203T113052Z
LAST-MODIFIED:20181203T113052Z
UID:2762-1544299200-1544310000@www.weihnachtshilfe.de
SUMMARY:Die Band hertzschlag l&auml;dt zum Benefiz-Rock-Konzert
DESCRIPTION:Die hannoversche Rock-Band hertzschlag l&auml;dt zu einem Benefiz-Konzert ein. Am Sonnabend\, 8. Dezember\, wird in der Kultkneipe f&uuml;r Live-Musik &ndash; der Frosch in Limmer &ndash; musiziert. Das Konzert an der Franz-Nause-Stra&szlig;e 3 beginnt gegen 20 Uhr. &bdquo;Da wir Leser der Hannoverschen Allgemeinen Zeitung sind\, die HAZ-Weihnachtshilfe gro&szlig;artig finden und die Spendenaktion j&auml;hrlich privat mit einem Obolus unterst&uuml;tzen\, w&uuml;rden wir unseren Auftritt gern mit einer solchen vorweihnachtlichen Aktion verbinden&ldquo;\, schreibt Tino T&ouml;ppler. &bdquo;Wir m&ouml;chten bei dem Gig f&uuml;r die HAZ-Weihnachtshilfe Geld sammeln und hoffen\, einen sch&ouml;nen Beitrag f&uuml;r die diesj&auml;hrige Weihnachtshilfe zusammen zu bekommen.&ldquo;
URL:https://www.weihnachtshilfe.de/event/die-band-hertzschlag-laedt-zum-benefiz-rock-konzert/
CATEGORIES:Termine
ATTACH;FMTTYPE=image/jpeg:https://www.weihnachtshilfe.de/wp-content/uploads/2018/12/hertzschlag_01_300dpi.jpg
END:VEVENT
BEGIN:VEVENT
DTSTART;TZID=Europe/Helsinki:20181209T200000
DTEND;TZID=Europe/Helsinki:20181209T223000
DTSTAMP:20260423T225104
CREATED:20181017T111520Z
LAST-MODIFIED:20181017T111520Z
UID:2612-1544385600-1544394600@www.weihnachtshilfe.de
SUMMARY:Beim Poetry Slam gehen Spendendosen rum
DESCRIPTION:In der Staatsoper l&auml;uft am 9. Dezember erneut ein Poetry Slam\, ein moderner Dichterwettbewerb. Wie in den vergangenen Jahren lassen die Slammer w&auml;hrend der Veranstaltung Sammelb&uuml;chen durchs Publikum gehen und w&uuml;nschen sich Spenden f&uuml;r Menschen in Not vor Ort. In diesem Jahr treten die Slammer in Teams an. \nDie Teilnehmer des Poetry Slams in der Oper bitter erneut das Publikum um Spenden f&uuml;r die HAZ-Weihnachtshilfe. Foto: Villegas \nLos geht&rsquo;s am Sonntag um 20 Uhr.
URL:https://www.weihnachtshilfe.de/event/beim-poetry-slam-gehen-spendendosen-rum/
LOCATION:Staatsoper Hannover\, Hannover\, Deutschland
CATEGORIES:Termine
ATTACH;FMTTYPE=image/jpeg:https://www.weihnachtshilfe.de/wp-content/uploads/2017/12/031217_PoetrySlam_Weihnachtshilfe_Sammlung_Opernhaus_002-e1512743099809.jpg
ORGANIZER;CN="":MAILTO:jan_egge@gmx.de
END:VEVENT
BEGIN:VEVENT
DTSTART;TZID=Europe/Helsinki:20181210T183000
DTEND;TZID=Europe/Helsinki:20181210T220000
DTSTAMP:20260423T225104
CREATED:20181017T112702Z
LAST-MODIFIED:20181203T171637Z
UID:2623-1544466600-1544479200@www.weihnachtshilfe.de
SUMMARY:Spendengala des Freundeskreis
DESCRIPTION:Ein Abend voller Musik wartet beim Freundeskreis Hannover. Der Verein l&auml;dt am Montag\, 10. Dezember\, ins Leibniz Theater. Zu Gast ist Tinatin. In den Texten der S&auml;ngerin&nbsp;geht es um entscheidende Augenblicke des Lebens\, Momentaufnahmen von Empfindungen\, die oft mit Worten nicht greifbar sind. Diese aber schafft Tinatin in Text und Musik zu verdichten. Mit ihrer bildgewaltigen Sprache und unverwechselbar warmen Stimme nimmt sie den H&ouml;rer auf eine Reise in diese Welten mit. Die Arrangements sind jazzig\, bluesig und poppig zugleich\, die Texte haben ein Singer-Songwriter-Fundament\, ihre Stimme klingt mal zerbrechlich mal stark und selbstbewusst &ndash; ber&uuml;hrend aufrichtig und gleicherma&szlig;en mit Wortwitz ausgefeilt. \nF&uuml;r die geb&uuml;rtige Georgierin ist Musik schon immer wichtiger Gegenstand ihres Alltags: Schon als Kleinkind sitzt sie bei Proben und Auff&uuml;hrungen in den Orchestergr&auml;ben der Staatsoper an der Seite ihrer Eltern\, die beide Berufsmusiker sind. Den Musikgeschmack pr&auml;gen zu Hause Jazz- und Pop-Platten von Ella Fitzgerald bis Beatles. Und nat&uuml;rlich das georgische Liedgut.&nbsp;Mit f&uuml;nf Jahren bekommt sie Unterricht an der Violine\, mit sechs Jahren beginnt ein intensiver Klavierunterricht. Wegen des B&uuml;rgerkriegs zieht sie 1993 mit elf Jahren mit ihrer Familie nach Deutschland. Es mangelt an allem\, besonders an einem Instrument und Geld f&uuml;r Unterricht. Ihre eigene Stimme als musikalisches Ausdrucksmittel ist von da an einziger Trost. Tinatin entdeckt Aufnahmen der Popular- und Weltmusik\, die sie sich jahrelang vor allem &uuml;ber das viele H&ouml;ren erschlie&szlig;t. Vor allem S&auml;ngerinnen wie Erikah Badu\, Lauren Hill\, Bj&ouml;rk und India Arie hinterlassen eine musikalische Spur. Erst im Studium entdeckt sie ihr Gesp&uuml;r f&uuml;r Songwriting und Gesangspotenzial. Sie singt in verschiedenen Besetzungen und tritt am Montag nun bei der Benefiz-Gala des Freundeskreis Hannover auf. \nDer Eintritt ist kostenlos\, doch es wird kr&auml;ftig um Spenden gebeten. Alle Spenden des Abends gehen zu 100 Prozent an die HAZ-Weihnachtshilfe. Im letzten Jahr kamen 1000 Euro zusammen. Los geht&rsquo;s um 18.30 Uhr.
URL:https://www.weihnachtshilfe.de/event/spendengala-des-freundeskreis/
LOCATION:Leibniz Theater
CATEGORIES:Termine
ATTACH;FMTTYPE=image/jpeg:https://www.weihnachtshilfe.de/wp-content/uploads/2018/10/Freundeskreis-e1544198547729.jpg
END:VEVENT
BEGIN:VEVENT
DTSTART;TZID=Europe/Helsinki:20181211T130000
DTEND;TZID=Europe/Helsinki:20181211T180000
DTSTAMP:20260423T225104
CREATED:20181126T144656Z
LAST-MODIFIED:20181126T144656Z
UID:2732-1544533200-1544551200@www.weihnachtshilfe.de
SUMMARY:Die Fachschaft Sonderp&auml;dagogik sammelt beim Weihnachtsmarkt
DESCRIPTION:Der kleine\, liebevoll gestaltete Weihnachtsmarkt der Fachschaft Sonderp&auml;dagogik der Leibniz Universit&auml;t Hannover ist nicht nur bei Studierenden beliebt. Der ehrenamtlich durchgef&uuml;hrte Markt bietet am Dienstag\, 11. Dezember\, Kekse und Pl&auml;tzchen. Die Einnahmen unterst&uuml;tzen auch in diesem Jahr die HAZ-Weihnachtshilfe. Der Markt l&auml;uft ab&nbsp;13 Uhr im Innenhof der Schlosswender Stra&szlig;e 1.&nbsp;
URL:https://www.weihnachtshilfe.de/event/die-fachschaft-sonderpaedagogik-sammelt-beim-weihnachtsmarkt/
CATEGORIES:Termine
ATTACH;FMTTYPE=image/jpeg:https://www.weihnachtshilfe.de/wp-content/uploads/2018/11/Benefiz-Weihnachtsmarkt-der-Fachschaft-Sonderpaedagogik_01-1.jpg
END:VEVENT
BEGIN:VEVENT
DTSTART;TZID=Europe/Helsinki:20181215T150000
DTEND;TZID=Europe/Helsinki:20181215T170000
DTSTAMP:20260423T225104
CREATED:20181122T162827Z
LAST-MODIFIED:20181122T165133Z
UID:2679-1544886000-1544893200@www.weihnachtshilfe.de
SUMMARY:Musikschule l&auml;dt zum Adventskonzert ein
DESCRIPTION:Am 15. Dezember folgt das j&auml;hrliche Adventskonzert der Musikschule unter der Leitung von Boyan Karanjuloff und Simon Knox. Ab 15 Uhr treten Mitglieder in der Lister Matth&auml;uskirche an der W&ouml;hlerstra&szlig;e 13&nbsp;auf und sorgen f&uuml;r festliche und weihnachtliche Musik. Der Eintritt ist frei\, um Spenden f&uuml;r die HAZ-Weihnachtshilfe wird gebeten.
URL:https://www.weihnachtshilfe.de/event/musikschule-laedt-zum-adventskonzert-ein/
CATEGORIES:Termine
ATTACH;FMTTYPE=image/jpeg:https://www.weihnachtshilfe.de/wp-content/uploads/2016/12/Musikschule-2.jpg
END:VEVENT
BEGIN:VEVENT
DTSTART;TZID=Europe/Helsinki:20181216T170000
DTEND;TZID=Europe/Helsinki:20181216T190000
DTSTAMP:20260423T225104
CREATED:20181017T125327Z
LAST-MODIFIED:20181017T125327Z
UID:2632-1544979600-1544986800@www.weihnachtshilfe.de
SUMMARY:Ricklingen singt f&uuml;r den guten Zweck
DESCRIPTION:Die St. Augustinus-Kirchengemeinde hat mit der Reihe &bdquo;Musik in St. Augustinus&ldquo; in 30 Jahre viel und viele Menschen erreicht: Zu mehr 250 Veranstaltungen kamen mehr als 55.000 Menschen &ndash; B&uuml;rgerinnen und B&uuml;rger aus dem Stadtbezirk Ricklingen\, aber auch von weit &uuml;ber die Stadtgrenzen Hannovers hinaus. Zum Jubil&auml;umsjahr von &bdquo;Musik in&nbsp;St. Augustinus&ldquo; gibt es diverse Veranstaltungen\, die unter diesem Link nachzulesen sind. F&uuml;r die HAZ-Weihnachtshilfe wird am 16. Dezember gesungen. So tritt der Chor taktvoll unter der Leitung von Melanie Schulze auf\, der Posaunenchor St. Thomas unter der Leitung von Volker Hartmann und Winfried Dahn an der Orgel. Dazu gibt es eine Lichtinstallation von Christopher Mock und Gru&szlig;worte der beiden Schirmherren: Propst Martin Tenge und Regionspr&auml;sident Hauke Jagau. Die Moderation &uuml;bernimmt&nbsp;Thomas Berkefeld. Los geht&rsquo;s um 17 Uhr. Die&nbsp;St. Augustinus-Kirchengemeinde ist an der&nbsp;G&ouml;ttinger Chaussee 145.
URL:https://www.weihnachtshilfe.de/event/ricklingen-singt-fuer-den-guten-zweck/
CATEGORIES:Termine
ATTACH;FMTTYPE=image/jpeg:https://www.weihnachtshilfe.de/wp-content/uploads/2018/10/20170917_Augustinus_008.jpg
END:VEVENT
BEGIN:VEVENT
DTSTART;TZID=Europe/Helsinki:20181216T190000
DTEND;TZID=Europe/Helsinki:20181216T220000
DTSTAMP:20260423T225104
CREATED:20181017T132159Z
LAST-MODIFIED:20181017T132159Z
UID:2639-1544986800-1544997600@www.weihnachtshilfe.de
SUMMARY:Opus 112 spielt in der Marktkirche
DESCRIPTION:Nach guter Tradition findet am 16. Dezember um&nbsp;19 Uhr&nbsp;das&nbsp;Adventskonzert von Opus 112 in der&nbsp;Marktkirche in Hannover&nbsp;statt. &bdquo;Selbstverst&auml;ndlich werden wieder Spenden f&uuml;r die HAZ-Weihnachtshilfe gesammelt&ldquo;\, hei&szlig;t es auf der Internetseite des&nbsp;sinfonischen Blasorchester der Feuerwehr Hannover. Die Musiker um den Orchester-Leiter Hugo Loosveld engagieren sich schon seit Jahren f&uuml;r die Spendensammlung f&uuml;r die Region Hannover.
URL:https://www.weihnachtshilfe.de/event/opus-112-spielt-in-der-marktkirche/
CATEGORIES:Termine
ATTACH;FMTTYPE=image/jpeg:https://www.weihnachtshilfe.de/wp-content/uploads/2016/12/opus112.jpg
END:VEVENT
BEGIN:VEVENT
DTSTART;TZID=Europe/Helsinki:20181218T170000
DTEND;TZID=Europe/Helsinki:20181218T200000
DTSTAMP:20260423T225104
CREATED:20181017T113302Z
LAST-MODIFIED:20181017T113302Z
UID:2628-1545152400-1545163200@www.weihnachtshilfe.de
SUMMARY:Die Regionspolitik singt auf dem Weihnachtsmarkt
DESCRIPTION:In der letzten Woche des Weihnachtsmarkts in der Altstadt in Hannover treten oftmals K&uuml;nstler f&uuml;r die HAZ-Weihnachtshilfe auf. Dazu sammeln erneut die blauen Weihnachtsengel der Spendensammlung und bitten um kleine Beitr&auml;ge. Zu den musikalischen H&ouml;hepunkten geh&ouml;rt der Auftritt der Mitglieder und Mitarbeiter der Regionsversammlung samt Regionspr&auml;sident Hauke Jagau\, die auf der B&uuml;hne Weihnachtslieder singen. Die Politik beginnt direkt nach der letztes Sitzung ab etwa 17 Uhr.
URL:https://www.weihnachtshilfe.de/event/die-regionspolitik-singt-auf-dem-weihnachtsmarkt/
CATEGORIES:Termine
ATTACH;FMTTYPE=image/jpeg:https://www.weihnachtshilfe.de/wp-content/uploads/2016/12/Region-5.jpg
END:VEVENT
BEGIN:VEVENT
DTSTART;TZID=Europe/Helsinki:20181220T170000
DTEND;TZID=Europe/Helsinki:20181220T200000
DTSTAMP:20260423T225104
CREATED:20181017T113048Z
LAST-MODIFIED:20181017T113049Z
UID:2626-1545325200-1545336000@www.weihnachtshilfe.de
SUMMARY:Die Stadtpolitik singt auf dem Weihnachtsmarkt
DESCRIPTION:In der letzten Woche des Weihnachtsmarkts in der Altstadt in Hannover treten oftmals K&uuml;nstler f&uuml;r die HAZ-Weihnachtshilfe auf. Dazu sammeln erneut die blauen Weihnachtsengel der Spendensammlung und bitten um kleine Beitr&auml;ge. Zu den musikalischen H&ouml;hepunkten geh&ouml;rt der Auftritt der Mitglieder des Rats der Stadt\, die auf der B&uuml;hne Weihnachtslieder singen. Die Politik beginnt direkt nach der letztes Ratssitzung ab etwa 17.30 Uhr.
URL:https://www.weihnachtshilfe.de/event/die-stadtpolitik-singt-auf-dem-weihnachtsmarkt/
CATEGORIES:Termine
ATTACH;FMTTYPE=image/jpeg:https://www.weihnachtshilfe.de/wp-content/uploads/2017/12/rat-singt.jpg
END:VEVENT
BEGIN:VEVENT
DTSTART;TZID=Europe/Helsinki:20181224T100000
DTEND;TZID=Europe/Helsinki:20181224T140000
DTSTAMP:20260423T225104
CREATED:20181219T120159Z
LAST-MODIFIED:20181219T120203Z
UID:2888-1545645600-1545660000@www.weihnachtshilfe.de
SUMMARY:Das Panorama am Zoo &ouml;ffnet gegen eine Spende
DESCRIPTION:Das Panorama am Zoo zeigt den unermessliche Artenreichtum der Natur auf besondere Art. Der K&uuml;nstler Yadegar Asisi hat ein Riesenrundbild mit dem Titel Amazonien angefertigt. Es zeigt die Komplexit&auml;t des Lebensraums Regenwald und ist gleichzeitig als Hommage an all die Naturforscher gedacht\, die den Regenwald erforscht haben. Das Panorama sensibilisiert f&uuml;r die Fragilit&auml;t des Regenwaldes in all seiner Vielfalt und Bedrohung &ndash; und ist direkt am Heiligabend\, 24. Dezember\, ge&ouml;ffnet. Von 10 bis 14 Uhr &ouml;ffnet das Panorama-Team um Wiebke Jan&szlig;en und Tanja Larsson mit Unterst&uuml;tzung des Zoo-Gesch&auml;ftsf&uuml;hrers&nbsp;Andreas Michael Casdorff kostenlos. Die Mitarbeiter bitten aber um eine Spende f&uuml;r die HAZ-Weihnachtshilfe. &bdquo;Wir haben im letzten Jahr f&uuml;r den Drill gesammelt und wollten in diesem Jahr Menschen vor Ort unterst&uuml;tzen\, denen es nicht so gut geht &ndash; und etwas zur&uuml;ckgeben&ldquo;\, sagt&nbsp;Casdorff . \nF&uuml;r Besucher des Panoramas wird es zus&auml;tzlich eine Rallye mit weihnachtlichen Fragen geben. Zudem k&ouml;nnen sie an einem Weihnachts-Wunschbaum gute W&uuml;nsche festhalten. Das Panorama ist am 25. und 26. Dezember regul&auml;r von 10 bis 18 Uhr ge&ouml;ffnet und hat auch zwischen den Feiertagen ge&ouml;ffnet.
URL:https://www.weihnachtshilfe.de/event/das-panorama-am-zoo-oeffnet-gegen-eine-spende/
CATEGORIES:Termine
ATTACH;FMTTYPE=image/jpeg:https://www.weihnachtshilfe.de/wp-content/uploads/2018/12/Zoo-2.jpg
END:VEVENT
END:VCALENDAR