BEGIN:VCALENDAR
VERSION:2.0
PRODID:-//HAZ Weihnachtshilfe - ECPv5.3.0//NONSGML v1.0//EN
CALSCALE:GREGORIAN
METHOD:PUBLISH
X-WR-CALNAME:HAZ Weihnachtshilfe
X-ORIGINAL-URL:https://www.weihnachtshilfe.de
X-WR-CALDESC:Veranstaltungen f&uuml;r HAZ Weihnachtshilfe
BEGIN:VTIMEZONE
TZID:Europe/Helsinki
BEGIN:DAYLIGHT
TZOFFSETFROM:+0200
TZOFFSETTO:+0300
TZNAME:EEST
DTSTART:20190331T010000
END:DAYLIGHT
BEGIN:STANDARD
TZOFFSETFROM:+0300
TZOFFSETTO:+0200
TZNAME:EET
DTSTART:20191027T010000
END:STANDARD
END:VTIMEZONE
BEGIN:VEVENT
DTSTART;TZID=Europe/Helsinki:20191027T180000
DTEND;TZID=Europe/Helsinki:20191027T210000
DTSTAMP:20260423T061541
CREATED:20191002T124659Z
LAST-MODIFIED:20191002T124659Z
UID:3028-1572199200-1572210000@www.weihnachtshilfe.de
SUMMARY:Festival der Generationen
DESCRIPTION:Eine gr&ouml;&szlig;ere Spendensumme m&ouml;chte auch der&nbsp;Fachbereich Senioren sammeln &ndash; und l&auml;dt schon am 27. Oktober um 18 Uhr zum 4. Festival der Generationen ein. Das Polizeiorchester Niedersachsen unter der Leitung von Thomas Boger verbindet Bigband-Kl&auml;nge mit Popmusik und spielt dabei mit bekannten Einzelk&uuml;nstlern &ndash; eine einmalige Mischung. So tritt der Jazz-S&auml;nger Juliano Rossi auf. Auch die Solistin Shereen Adam ist dabei. Und mit Michael Schulte kommt sogar ein ehemaligere Teilnehmer des Eurovision Songcontest. Der Reinerl&ouml;s des besonderen Konzertabends kommt im Theater am Aegi der Spendensammlung zugute. Karten gibt es schon jetzt in den HAZ-Ticketshops und HAZ-Gesch&auml;ftsstellen.
URL:https://www.weihnachtshilfe.de/event/festival-der-generationen/
CATEGORIES:Termine
ATTACH;FMTTYPE=image/jpeg:https://www.weihnachtshilfe.de/wp-content/uploads/2019/04/1_Michael-Schulte_Markus-Haner-e1567767664628.jpg
END:VEVENT
END:VCALENDAR