BEGIN:VCALENDAR
VERSION:2.0
PRODID:-//HAZ Weihnachtshilfe - ECPv5.3.0//NONSGML v1.0//EN
CALSCALE:GREGORIAN
METHOD:PUBLISH
X-WR-CALNAME:HAZ Weihnachtshilfe
X-ORIGINAL-URL:https://www.weihnachtshilfe.de
X-WR-CALDESC:Veranstaltungen f&uuml;r HAZ Weihnachtshilfe
BEGIN:VTIMEZONE
TZID:Europe/Helsinki
BEGIN:DAYLIGHT
TZOFFSETFROM:+0200
TZOFFSETTO:+0300
TZNAME:EEST
DTSTART:20190331T010000
END:DAYLIGHT
BEGIN:STANDARD
TZOFFSETFROM:+0300
TZOFFSETTO:+0200
TZNAME:EET
DTSTART:20191027T010000
END:STANDARD
END:VTIMEZONE
BEGIN:VEVENT
DTSTART;TZID=Europe/Helsinki:20191111T200000
DTEND;TZID=Europe/Helsinki:20191111T223000
DTSTAMP:20260423T041856
CREATED:20191002T133148Z
LAST-MODIFIED:20191002T133148Z
UID:3046-1573502400-1573511400@www.weihnachtshilfe.de
SUMMARY:Sammlung beim Salon-Science-Slam
DESCRIPTION:Foto: Philipp von Ditfurth \nVon wegen kein Interesse an trockener Wissenschaft: Knapp 400.000 Besucher kamen im Juni zur siebten Ideen-Expo aufs Messegel&auml;nde. Sie alle wollten wissen und sehen\, was so geht in der Forschung &mdash; und was in Zukunft noch so alles gehen k&ouml;nnte. Ganz so viele werden im Literarischen Salon beim ersten Salon-Science-Slam keinen Platz finden\, aber: F&uuml;r den Vorentscheid zum gro&szlig;en Ideen-Expo-Finale 2021 gibt der Literarische Salon der Leibniz Universit&auml;t deren Bestes bzw. Gr&ouml;&szlig;tes: das Auditorium Maximum mit seinen mehr als 600 Pl&auml;tzen! Hier treten sie am 11. November um 20 an: sechs Wissenschaftler\, die exakt zehn Minuten Zeit haben\, um Herz und Hirn des Publikums zu erreichen &mdash; mit den besten\, interessantesten oder auch irrwitzigsten Ideen\, Vortr&auml;gen\, Exponaten\, Live-Experimenten und Power-Point-Pl&auml;doyers. Durch den Abend f&uuml;hren ein HAZ-Redakteur und eine Bildungsreferentin\, die vor allem eines mitbringen &mdash; mehrj&auml;hrige Slam-Erfahrung: Anna Noack und Jan Egge Sedelies. Dazu geht eine Spendendose f&uuml;r die HAZ-Weihnachtshilfe rum. Der Eintritt ist frei.
URL:https://www.weihnachtshilfe.de/event/sammlung-beim-salon-science-slam/
CATEGORIES:Termine
ATTACH;FMTTYPE=image/jpeg:https://www.weihnachtshilfe.de/wp-content/uploads/2017/12/20171206_vespa_044-1-e1513854376177.jpg
END:VEVENT
BEGIN:VEVENT
DTSTART;TZID=Europe/Helsinki:20191114T190000
DTEND;TZID=Europe/Helsinki:20191114T210000
DTSTAMP:20260423T041856
CREATED:20191107T163258Z
LAST-MODIFIED:20191107T163417Z
UID:3095-1573758000-1573765200@www.weihnachtshilfe.de
SUMMARY:Benefiz-Lesung mit Simon Benne
DESCRIPTION:HAZ-Autor&nbsp;Simon&nbsp;Benne&nbsp;stellt die neue Glossensammlung &bdquo;Alle guten Dinge sind vier&ldquo; bei einer Benefiz-Lesung vor. Am Donnerstag\, 14. November\, l&auml;dt das Pelikan-Team den Autoren in den Tintenturm im historischen Pelikan-Viertel ein. Dort liest er ab 19 Uhr die sch&ouml;nsten Kolumnen aus dem neuen Werk. Eintritt wird von den Veranstaltern nicht erhoben.&nbsp;Benne&nbsp;bittet allerdings mit Sammeldosen um Spenden f&uuml;r die HAZ-Weihnachtshilfe &ndash; die Spendensammlung f&uuml;r Menschen in Not vor Ort. F&uuml;r die Lesung ist eine Anmeldung n&ouml;tig\, die Pl&auml;tze sind begrenzt. Interessierte HAZ-Leser schicken eine E-Mail mit Kontaktdaten und dem Stichwort &bdquo;Simon&nbsp;Benne&nbsp;Lesung&ldquo; an hannover@haz.de und erhalten per E-Mail eine genaue Anfahrtsskizze. Das Buch ist in den HAZ-Ticketshops\, im Internet unter shop.haz.de und im ausgew&auml;hlten Buchhandel zu haben. Es kostet 12\,90 Euro.
URL:https://www.weihnachtshilfe.de/event/benefiz-lesung-mit-simon-benne/
CATEGORIES:Termine
ATTACH;FMTTYPE=image/jpeg:https://www.weihnachtshilfe.de/wp-content/uploads/2019/11/Simon-Benne.jpg
END:VEVENT
BEGIN:VEVENT
DTSTART;TZID=Europe/Helsinki:20191116T100000
DTEND;TZID=Europe/Helsinki:20191116T170000
DTSTAMP:20260423T041856
CREATED:20191002T125128Z
LAST-MODIFIED:20191002T125128Z
UID:3030-1573898400-1573923600@www.weihnachtshilfe.de
SUMMARY:Die Lions laden zum Mittagspause
DESCRIPTION:Dieser Einsatz hat sich gelohnt: Die Mitglieder des Lions-Clubs Hermes-Calenberg &uuml;bergaben im vergangenen Jahr die gesammelten Spenden traditionell vor dem Gasthaus &Ouml;hlers. Foto: Schaarschmidt \nDie ersten Jahre hatten etwas von einer Laborsituation. Schnell waren sich R&uuml;diger Ahlers und seine Mitstreiter vom&nbsp;Lions-Club Hermes-Calenberg dar&uuml;ber einig\, dass sie mit einer Benefizaktion etwas Gutes in der Weihnachtszeit tun wollten. Also probierten sie sich im Suppenverkauf auf dem D&ouml;hrener Weihnachtsmarkt\, hatten aber nicht mit den eher verhaltenen Reaktionen der anderen gastronomischen H&auml;ndler gerechnet. Also zogen sie um auf den Kr&ouml;pcke &ndash; und versch&auml;tzten sich. &bdquo;Wir hatten viel zu wenig Suppe&ldquo;\, erinnert sich Ahlers und bl&auml;ttert in alten Fotos vom Kr&ouml;pcke. &bdquo;Die 400 Liter Suppe waren schnell aus\, wir mussten neu kalkulieren.&ldquo;&nbsp;Damals wurde der Grundstein f&uuml;r die &auml;lteste Benefizaktion zugunsten der HAZ-Weihnachtshilfe&nbsp;gelegt. &bdquo;Wir sp&uuml;rten eine regelrechte Empathiewelle&ldquo;\, sagt Ahlers. &bdquo;Und je k&auml;lter es in den Folgejahren wurde\, umso mehr r&uuml;ckten wir zusammen.&ldquo; \nAm Sonnabend\, 16. November\,&nbsp; laden die Lions Hermes-Calenberg nun zum bereits 22. Suppenverkauf direkt auf dem Kr&ouml;pcke. &bdquo;Gern trifft man sich auf dem Kr&ouml;pcke zu einem Gespr&auml;ch. Wer isst nicht gern einmal selbstgebackenen Kuchen\, Erbsensuppe oder Bratwurst in der Stadt? Dazu laden wir alle B&uuml;rger herzlich ein&ldquo;\, schreibt R&uuml;diger Ahlers in einer Einladung. Auch B&uuml;rgermeister Thomas Hermann hat seine Unterst&uuml;tzung zugesagt. Die Einnahmen sind als Spende f&uuml;r die HAZ-Weihnachtshilfe gedacht.
URL:https://www.weihnachtshilfe.de/event/die-lions-laden-zum-mittagspause/
CATEGORIES:Termine
ATTACH;FMTTYPE=image/jpeg:https://www.weihnachtshilfe.de/wp-content/uploads/2018/11/Lions-5.jpg
END:VEVENT
BEGIN:VEVENT
DTSTART;TZID=Europe/Helsinki:20191125T160000
DTEND;TZID=Europe/Helsinki:20191125T200000
DTSTAMP:20260423T041856
CREATED:20191002T130258Z
LAST-MODIFIED:20191002T130258Z
UID:3034-1574697600-1574712000@www.weihnachtshilfe.de
SUMMARY:Weihnachtsmarkt wird er&ouml;ffnet
DESCRIPTION:Im vergangenen Jahr sammelten bei der Weihnachtsmarkter&ouml;ffnung Ministerpr&auml;sident Stephan Weil\, Stadtsuperintendent Hans-Martin Heinemann und der HAZ-Chefredakteur Hendrik Brandt. Foto: Tim Schaarschmidt \nAm Montag\, 25.November\, wird der traditionelle Weihnachtsmarkt in der Altstadt mit starken Stimmen er&ouml;ffnet. Offiziell bringen Vertreter der Stadt\, der Kirche\, der Ausstellerverb&auml;nde und HAZ-Chefredakteur Hendrik Brandt den gro&szlig;en Weihnachtsbaum direkt an der Marktkirche zum Erstrahlen. Doch direkt im Anschluss sind die Besucher selbst gefordert\, ihren Weihnachtsmarkt zu er&ouml;ffnen. Gemeinsam mit dem Chor Taktvoll unter der Leitung von Melanie Schulze werden ab 16.30 Uhr auf und vor der B&uuml;hne Weihnachtslieder gesungen. Mitarbeiter der HAZ verteilen dazu stimmungsvolle Windlichter und Textbl&auml;tter. Dazu sammeln die sogenannten HAZ-Engel auch in diesem Jahr f&uuml;r die HAZ-Weihnachtshilfe\, die seit 1975 Menschen in Not in der Region Hannover unterst&uuml;tzt.
URL:https://www.weihnachtshilfe.de/event/weihnachtsmarkt-wird-eroeffnet-3/
CATEGORIES:Termine
ATTACH;FMTTYPE=image/jpeg:https://www.weihnachtshilfe.de/wp-content/uploads/2018/11/Weil-1-e1570021167584.jpg
END:VEVENT
BEGIN:VEVENT
DTSTART;TZID=Europe/Helsinki:20191128T190000
DTEND;TZID=Europe/Helsinki:20191128T220000
DTSTAMP:20260423T041856
CREATED:20191101T111555Z
LAST-MODIFIED:20191101T111629Z
UID:3079-1574967600-1574978400@www.weihnachtshilfe.de
SUMMARY:Benefiz-Lesung mit Barbara Schl&uuml;ter\, Claudia Rimkus und Heike Wolpert
DESCRIPTION:Beim beliebten Krimifest Hannover trafen sich die drei Autorinnen Barbara Schl&uuml;ter\, Claudia Rimkus und Heike Wolpert erstmalig gemeinsam\, um k&uuml;nftige Lesungen auch zusammen zu gestalten. Nun schlie&szlig;t sich das Trio erneut zusammen\, um f&uuml;r die HAZ-Weihnachtshilfe eine Benefiz-Lesung zu organisieren. Unterst&uuml;tzt von der Deutschen Bank laden sie am Donnerstag\, 28. November\, zur gemeinsamen Veranstaltung ein. In den R&auml;umlichkeiten der Bank am Georgsplatz 20 pr&auml;sentieren sie drei Lesungen aus aktuellen B&uuml;chern. So liest Barbara Schl&uuml;ter aus dem Buch &bdquo;Ausgerechnet zum Feiertag&ldquo; &ndash; historische Mordsgeschichten. Der Eintritt ist frei\, um Spenden wird gebeten.
URL:https://www.weihnachtshilfe.de/event/benefiz-lesung-mit-gleich-drei-autorinnen/
CATEGORIES:Termine
ATTACH;FMTTYPE=image/jpeg:https://www.weihnachtshilfe.de/wp-content/uploads/2019/11/Schl&uuml;ter_Autorenbild-e1572606879296.jpg
END:VEVENT
END:VCALENDAR